{"text_format":"1","workbook":"xlsx","n_sheets":10,"sheets":["Presentación","Instrucciones","E.Datos","E.Datos2","Metano","Resultados PRTR","Result. N","Calculos","F.EE.","F.Dist."],"not_rendered":{"charts":0,"images":8,"macros":1,"external_links":1,"defined_names":1,"comments":0,"pivot_tables":0},"unopened":[],"bounds":{"document_bytes":16777216,"sheet_cells":100000,"rows_first":2000,"rows_last":500,"rows_between":2000,"halvings":0,"cell_chars":16384,"cell_head_chars":4096},"cells_cut":0,"cells_raw":0,"read":"whole","date_system":"1900"}

{"sheet":"Presentación","index":0,"n_rows":0,"n_cols":0,"rows_kept":0,"cut":false,"hidden":false,"merged":[]}

{"sheet":"Instrucciones","index":1,"n_rows":67,"n_cols":17,"rows_kept":67,"cut":false,"hidden":false,"merged":[[1,0,2,13],[66,7,66,14],[4,0,4,13],[6,0,6,13],[16,0,16,13],[7,0,7,13]]}
[]
["En la pestaña  “E.Datos” (Entrada de datos) deben introducirse los datos del complejo. Además, en la comuna E donde se especifíca el número de animales al año hay que introducir el número de plazas que haya en la explotación."]
[]
[]
["Si en su instalación conviven cerdos de diferentes categorías productivas, debe dividir el número de plazas entre el número de categorías que existan en su instalación. "]
[]
["Por ejemplo: "]
["Granja de 3.000 plazas de cerdos de cebo, donde entran cerdos con 20 kg y salen con 109 kg.                                                                                                                                      En la columna E de la pestaña de E.Datos, habría que introducir:"]
["•Cerdo 20-49 kg: 3.000/3=1.000"]
["•Cerdo 50-79 kg: 3.000/3=1.000"]
["•Cerdo 80-109 kg: 3.000/3=1.000"]
[]
["El TOTAL DE ANIMALES EN GRANJA (celda E53) no puede superar el número de plazas autorizadas."]
[]
["Los porcentajes de Proteína Bruta Alimentaria de la columna G de la hoja “E.Datos”, están referidos a peso seco. "]
[]
["En la pestaña \"E.Datos2\" mediante el desplegable situado en la derecha, debe introducir la provincia así como la persona responsable de realizar la declaración y el número de plazas según categoría para poder obtener el dato de CH4."]
[]
[]
[]
[]
[]
[]
[]
[null,null,null,null,null,null,null,null,null,null,null,null,null,null,null,null,"FASE 1: ALOJAMIENTO DE ANIMALES"]
[null,null,null,null,null,null,null,null,null,null,null,null,null,null,null,null,"Emparrillado total"]
[null,null,null,null,null,null,null,null,null,null,null,null,null,null,null,null,"Emparrillado parcial y fosa reducida"]
[null,null,null,null,null,null,null,null,null,null,null,null,null,null,null,null,"Emparrillado parcial y lavado a chorro"]
[null,null,null,null,null,null,null,null,null,null,null,null,null,null,null,null,"Emparrillado parcial y acidificación"]
[null,null,null,null,null,null,null,null,null,null,null,null,null,null,null,null,"Emparrillado parcial y refrigeración"]
[null,null,null,null,null,null,null,null,null,null,null,null,null,null,null,null,"Emparrillado parcial y paredes inclinadas"]
[null,null,null,null,null,null,null,null,null,null,null,null,null,null,null,null,"Emparrillado parcial y canales de agua y purín"]
[null,null,null,null,null,null,null,null,null,null,null,null,null,null,null,null,"Emparrillado parcial y cinta en V"]
[]
[null,null,null,null,null,null,null,null,null,null,null,null,null,null,null,null,"FASE 2: EVACUACION DE PURINES DEL ALOJAMIENTO"]
[null,null,null,null,null,null,null,null,null,null,null,null,null,null,null,null,"Retirada poco frecuente: menos de 2 veces por semana"]
[null,null,null,null,null,null,null,null,null,null,null,null,null,null,null,null,"Retirada al menos 2 veces a la semana, con sistema de vacío"]
[null,null,null,null,null,null,null,null,null,null,null,null,null,null,null,null,"Retirada al menos 2 veces a la semana, con lavado a chorro"]
[null,null,null,null,null,null,null,null,null,null,null,null,null,null,null,null,"Canales de agua y purín "]
[null,null,null,null,null,null,null,null,null,null,null,null,null,null,null,null,"Colector de estiércol"]
[]
[null,null,null,null,null,null,null,null,null,null,null,null,null,null,null,null,"FASE 3: ALMACENAMIENTO DE PURINES EN LA GRANJA"]
[null,null,null,null,null,null,null,null,null,null,null,null,null,null,null,null,"Sin almacenamiento"]
[null,null,null,null,null,null,null,null,null,null,null,null,null,null,null,null,"Almacén sin cubrir y sin costra"]
[null,null,null,null,null,null,null,null,null,null,null,null,null,null,null,null,"Costra natural / Materiales flotantes (paja)"]
[null,null,null,null,null,null,null,null,null,null,null,null,null,null,null,null,"Cubiertas rígidas/flexibles"]
[null,null,null,null,null,null,null,null,null,null,null,null,null,null,null,null,"Piezas flotantes"]
[null,null,null,null,null,null,null,null,null,null,null,null,null,null,null,null,"Bolsa de estiércol"]
[null,null,null,null,null,null,null,null,null,null,null,null,null,null,null,null,"Acidificación del purín"]
[null,null,null,null,null,null,null,null,null,null,null,null,null,null,null,null,"Lámina de plástico flexible"]
[null,null,null,null,null,null,null,null,null,null,null,null,null,null,null,null,"Fosa con paredes inclinadas"]
[null,null,null,null,null,null,null,null,null,null,null,null,null,null,null,null,"Refrigeración de la superficie del purín"]
[null,null,null,null,null,null,null,null,null,null,null,null,null,null,null,null,"Bolas flotantes"]
[null,null,null,null,null,null,null,null,null,null,null,null,null,null,null,null,"Sistemas de depuración de aire"]
[]
[null,null,null,null,null,null,null,null,null,null,null,null,null,null,null,null,"FASE 4:  APLICACIÓN DE PURINES AL CAMPO"]
[null,null,null,null,null,null,null,null,null,null,null,null,null,null,null,null,"Distribución en abanico"]
[null,null,null,null,null,null,null,null,null,null,null,null,null,null,null,null,"Inyección superficial"]
[null,null,null,null,null,null,null,null,null,null,null,null,null,null,null,null,"Inyección profunda (5-10 cm)"]
[null,null,null,null,null,null,null,null,null,null,null,null,null,null,null,null,"Inyección profunda (>15 com)"]
[null,null,null,null,null,null,null,null,null,null,null,null,null,null,null,null,"Tubos colgantes"]
[null,null,null,null,null,null,null,"a) A la salida de la nave donde se alojan los animales:",null,null,null,null,"A almacenamiento",null,null,null,"Zapatas colgantes"]
[null,null,null,null,null,null,null,"b) A la salida del lugar o lugares de almacenamiento:",null,null,null,null,"Al campo o terreno agrícola",null,null,null,"Dilución de purines y riego a baja presión"]
[null,null,null,null,null,null,null,null,null,null,null,null,"A otros usos no agrarios",null,null,null,"Acidificación del purín (pH 6) y riego"]
[]
[null,null,null,null,null,null,null,"EMISIONES METANO"]
[null,null,null,null,null,null,null,"El usuario debe introducir los datos referidos en la pestaña E.Datos2 para que se realicen automáticamente los cálculos de emisiones de este contaminante."]

{"sheet":"E.Datos","index":2,"n_rows":53,"n_cols":23,"rows_kept":53,"cut":false,"hidden":false,"merged":[[7,1,8,3],[8,4,8,6],[8,7,8,9],[9,1,10,3],[10,4,10,6],[10,7,10,9],[0,1,2,9],[3,1,4,3],[3,4,4,9],[5,1,6,3],[6,4,6,6],[6,7,6,9],[11,1,12,3],[12,4,12,6],[12,7,12,9],[13,1,14,3],[14,4,14,6],[14,7,14,9],[21,1,53,1],[21,2,22,3],[21,4,22,4],[21,6,22,6],[21,7,22,7],[30,2,30,3],[42,2,42,3],[28,2,28,3],[32,2,32,3],[34,2,34,3],[36,2,36,3],[38,2,38,3],[50,2,50,3],[21,11,22,11],[21,17,22,17],[21,22,22,22],[24,2,24,3],[26,2,26,3],[21,9,22,9],[21,15,22,15],[15,11,15,17],[40,2,40,3],[44,2,44,3],[46,2,46,3],[48,2,48,3],[17,4,17,6],[17,7,17,9],[18,7,18,9],[15,1,15,3],[15,4,15,6],[15,7,15,9],[16,2,16,3],[16,4,16,9],[16,11,16,23],[21,19,21,20],[23,19,23,20],[2,11,2,17],[12,11,14,17],[10,11,11,17],[8,11,8,17],[11,18,12,23],[13,18,14,23],[4,18,6,22],[8,18,10,22]]}
[null,"GANADO PORCINO"]
[null,null,null,null,null,null,null,null,null,null,null,"Proteína bruta: ",null,null,null,null,null,null,"Separación sólido-líquido: "]
[null,null,null,null,null,null,null,null,null,null,null,"Marcar si la proteina bruta que se suministra habitualmente en la ración está o no dentro de los rangos.",null,null,null,null,null,null,"Marcar si se separa la fracción sólida de la fracción líquida en las deyecciones."]
[null,null,null,null,"IDENTIFICACION DE LA EXPLOTACION",null,null,null,null,null,null,"Grupo 1. Alojamiento de animales",null,null,null,null,null,null,"Destino de los purines:"]
[null,null,null,null,null,null,null,null,null,null,null,"Si se aplica un mismo sistema de alojamiento para todos los animales, marcar la misma opción en todas las categorías. En caso contrario, diferenciar por categoría.",null,null,null,null,null,null,"Indicar el destino del purín o el estiércol procedente de la explotación: el que se recoge en la nave de alojamiento y el que se saca del almacén de purines. "]
[]
[null,"EXPLOTACIÓN",null,null,"NOMBRE",null,null,null,null,null,null,"Grupo 2. Evacuación de purines"]
[]
[null,null,null,null,"Nº REGISTRO REGA",null,null,null,null,null,null,"Si se aplica un mismo sistema de evacuación en toda la granja, marcar la misma opción para todas las categorías. En caso contrario, diferenciar por categoría.",null,null,null,null,null,null,"Si los purines se sacan fuera de la explotación, ya sean o no entregados a un gestor, marque el destino que cree más probable."]
[]
[null,null,null,null,"RESPONSABLE",null,null,null,null,null,null,"Grupo 3. Almacenamiento de purines"]
[null,null,null,null,null,null,null,null,null,null,null,null,null,null,null,null,null,null,"En el caso de haber varios destinos posibles, indique el mayoritario."]
[null,null,null,null,"MODULO/NAVE",null,null,null,null,null,null,"Si el almacenamiento se hace mediante un sistema (fosa/depósito) común, marcar la misma opción para todas las categorías.\nDe haber varios sistemas, elegir por categoría animal el que corresponda o el más parecido."]
[null,null,null,null,null,null,null,null,null,null,null,null,null,null,null,null,null,null,"Sólo si procede, diferenciar por categoría animal."]
[null,null,null,null,"AÑO DE CONSTRUCCIÓN"]
[null,null,null,null,"AÑO DE ÚLTIMA REFORMA",null,null,null,null,null,null,"Grupo 4. Aplicación de purines al campo"]
[]
[null,null,null,null,"LOCALIZACION",null,null,null,null,null,null,"Elegir el sistema empleado en la explotación, diferenciando si procede por categoría animal."]
[null,null,null,null,null,null,null,null,null,null,null,"Si los purines o el estiércol se sacan fuera de la explotación, marque el sistema que cree se aplica en el lugar de destino."]
[]
[]
[null,"A N I M A L E S","CATEGORIAS PRODUCTIVAS",null,"Nº ANIMALES AL AÑO",null,"PROTEINA BRUTA ALIMENTARIA","SÍ / NO",null,"ALOJAMIENTO DE ANIMALES",null,"EVACUACION DE PURINES",null,"SEPARACIÓN SÓLIDO-LÍQUIDO",null,"DESTINO DE LOS PURINES A LA SALIDA DEL ALOJAMIENTO",null,"ALMACENAMIENTO \nDE PURINES",null,"DESTINO DE LOS PURINES TRAS SER ALMACENADOS",null,null,"APLICACIÓN DE \nPURINES AL CAMPO"]
[null,null,null,null,null,null,null,null,null,null,null,null,null,"SÍ / NO",null,null,null,null,null,"Sólidos","Líquidos"]
[]
[null,null,"Lechones destetados ",null,null,null,"20,6 - 21,0","SÍ",null,"Emparrillado total",null,"Retirada poco frecuente: menos de 2 veces por semana",null,"NO",null,"A almacenamiento",null,"Almacén sin cubrir y sin costra",null,"A otros usos no agrarios","A otros usos no agrarios",null,"Distribución en abanico"]
[]
[null,null,"Cerdo 20-49 kg",null,null,null,"18,0 - 18,4","SÍ",null,"Emparrillado total",null,"Retirada poco frecuente: menos de 2 veces por semana",null,"NO",null,"A almacenamiento",null,"Almacén sin cubrir y sin costra",null,"A otros usos no agrarios","A otros usos no agrarios",null,"Distribución en abanico"]
[]
[null,null,"Cerdo 50-79 kg",null,null,null,"17,2 - 17,6","SÍ",null,"Emparrillado total",null,"Retirada poco frecuente: menos de 2 veces por semana",null,"NO",null,"A almacenamiento",null,"Almacén sin cubrir y sin costra",null,"A otros usos no agrarios","A otros usos no agrarios",null,"Distribución en abanico"]
[]
[null,null,"Cerdo 80-109 kg",null,null,null,"16,3 - 16,7","SÍ",null,"Emparrillado total",null,"Retirada poco frecuente: menos de 2 veces por semana",null,"NO",null,"A almacenamiento",null,"Almacén sin cubrir y sin costra",null,"A otros usos no agrarios","A otros usos no agrarios",null,"Distribución en abanico"]
[]
[null,null,"Cerdo > 110 kg",null,null,null,"15,0 - 15,4","SÍ",null,"Emparrillado total",null,"Retirada poco frecuente: menos de 2 veces por semana",null,"NO",null,"A almacenamiento",null,"Almacén sin cubrir y sin costra",null,"A otros usos no agrarios","A otros usos no agrarios",null,"Distribución en abanico"]
[]
[null,null,"Verracos jóvenes",null,null,null,"16,0 - 16,4","SÍ",null,"Emparrillado total",null,"Retirada poco frecuente: menos de 2 veces por semana",null,"NO",null,"A almacenamiento",null,"Almacén sin cubrir y sin costra",null,"A otros usos no agrarios","A otros usos no agrarios",null,"Distribución en abanico"]
[]
[null,null,"Verracos adultos",null,null,null,"16,0 - 16,4","SÍ",null,"Emparrillado total",null,"Retirada poco frecuente: menos de 2 veces por semana",null,"NO",null,"A almacenamiento",null,"Almacén sin cubrir y sin costra",null,"A otros usos no agrarios","A otros usos no agrarios",null,"Distribución en abanico"]
[]
[null,null,"Reproductora no cubierta",null,null,null,"15,2 - 15,6","SÍ",null,"Emparrillado total",null,"Retirada poco frecuente: menos de 2 veces por semana",null,"NO",null,"A almacenamiento",null,"Almacén sin cubrir y sin costra",null,"A otros usos no agrarios","A otros usos no agrarios",null,"Distribución en abanico"]
[]
[null,null,"Reproductora en 1ª gestación",null,null,null,"15,3 - 15,7","SÍ",null,"Emparrillado total",null,"Retirada poco frecuente: menos de 2 veces por semana",null,"NO",null,"A almacenamiento",null,"Almacén sin cubrir y sin costra",null,"A otros usos no agrarios","A otros usos no agrarios",null,"Distribución en abanico"]
[]
[null,null,"Reproductora en gestación",null,null,null,"15,2 - 15,6","SÍ",null,"Emparrillado total",null,"Retirada poco frecuente: menos de 2 veces por semana",null,"NO",null,"A almacenamiento",null,"Almacén sin cubrir y sin costra",null,"A otros usos no agrarios","A otros usos no agrarios",null,"Distribución en abanico"]
[]
[null,null,"Reproductoras criando por 1ª vez",null,null,null,"18,4 - 18,8","SÍ",null,"Emparrillado total",null,"Retirada poco frecuente: menos de 2 veces por semana",null,"NO",null,"A almacenamiento",null,"Almacén sin cubrir y sin costra",null,"A otros usos no agrarios","A otros usos no agrarios",null,"Distribución en abanico"]
[]
[null,null,"Reproductoras criando",null,null,null,"18,4 - 18,8","SÍ",null,"Emparrillado total",null,"Retirada poco frecuente: menos de 2 veces por semana",null,"NO",null,"A almacenamiento",null,"Almacén sin cubrir y sin costra",null,"A otros usos no agrarios","A otros usos no agrarios",null,"Distribución en abanico"]
[]
[null,null,"Reproductoras en reposo por 1ª vez",null,null,null,"18,4 - 18,8","SÍ",null,"Emparrillado total",null,"Retirada poco frecuente: menos de 2 veces por semana",null,"NO",null,"A almacenamiento",null,"Almacén sin cubrir y sin costra",null,"A otros usos no agrarios","A otros usos no agrarios",null,"Distribución en abanico"]
[]
[null,null,"Reproductoras en reposo",null,null,null,"18,4 - 18,8","SÍ",null,"Emparrillado total",null,"Retirada poco frecuente: menos de 2 veces por semana",null,"NO",null,"A almacenamiento",null,"Almacén sin cubrir y sin costra",null,"A otros usos no agrarios","A otros usos no agrarios",null,"Distribución en abanico"]
[]
[null,null,"TOTAL ANIMALES EN GRANJA",null,{"$f":"IF(SUM(E25:E51)>0,SUM(E25:E51),\"\")","v":""}]

{"sheet":"E.Datos2","index":3,"n_rows":30,"n_cols":5,"rows_kept":30,"cut":false,"hidden":false,"merged":[[17,0,28,0],[47,2,47,3],[48,2,48,3],[19,1,19,3],[20,1,20,3],[21,1,21,3],[22,1,22,3],[23,1,23,3],[24,1,24,3],[25,1,25,3],[26,1,26,3],[28,1,28,3],[27,1,27,3],[3,1,3,2],[3,3,3,6],[1,1,1,6],[17,1,17,6],[5,1,5,6],[6,1,6,2],[6,3,6,6],[7,1,7,2],[7,3,7,6],[8,1,8,2],[8,3,8,6],[9,3,9,6],[10,1,12,2],[10,3,12,6],[19,4,19,6],[20,4,20,6],[21,4,21,6],[22,4,22,6],[23,4,23,6],[29,4,29,6],[24,4,24,6],[25,4,25,6],[26,4,26,6],[27,4,27,6],[28,4,28,6]]}
[]
[null,"                                    IDENTIFICACIÓN PROVINCIA"]
[]
[null,"Provincia de ubicación",null,"Provincia"]
[]
[null,"                                    Persona que realiza la declaración"]
[null,"Nombre y apellidos"]
[null,"Teléfono"]
[null,"Correo electrónico"]
[]
[null,"Observaciones"]
[]
[]
[]
[]
[]
[]
["ANIMALES","REGISTRO DE ANIMALES"]
[]
[null,"GANADO PORCINO",null,null,"Nº de Plazas"]
[null,"Lechones de 6 a 20 kg."]
[null,"Cerdos de 20 a 50 kg."]
[null,"Cerdos de 50 a 100 kg."]
[null,"Cerdos de 20 a 100 kg."]
[null,"Madres con lechones de 0 a 6 kg."]
[null,"Madres con lechones hasta 20 kg."]
[null,"Cerdas de reposición"]
[null,"Cerdas en ciclo cerrado"]
[null,"Verracos"]
[null,null,null,"Total",{"$f":"IF(SUM(E21:G29)=0,\"\",SUM(E21:G29))","v":""}]

{"sheet":"Metano","index":4,"n_rows":40,"n_cols":10,"rows_kept":40,"cut":false,"hidden":true,"merged":[[108,1,108,2],[109,1,109,2],[110,1,110,2],[3,1,4,9],[1,1,2,9],[102,1,102,2],[103,1,103,2],[104,1,104,2],[105,1,105,2],[106,1,106,2],[107,1,107,2],[94,1,94,2],[95,1,95,2],[96,1,96,2],[97,1,97,2],[100,1,101,2],[100,4,100,5],[87,4,87,5],[89,1,89,2],[90,1,90,2],[91,1,91,2],[92,1,92,2],[93,1,93,2],[87,1,88,2],[80,1,80,2],[81,1,81,2],[82,1,82,2],[83,1,83,2],[84,1,84,2],[57,4,57,5],[59,1,59,2],[60,1,60,2],[61,1,61,2],[79,1,79,2],[63,1,63,2],[64,1,64,2],[65,1,65,2],[66,1,66,2],[67,1,67,2],[71,1,71,5],[74,1,75,2],[74,4,74,5],[76,1,76,2],[77,1,77,2],[78,1,78,2],[62,1,62,2],[49,1,49,2],[50,1,50,2],[51,1,51,2],[52,1,52,2],[53,1,53,2],[54,1,54,2],[57,1,58,2],[48,1,48,2],[33,1,33,2],[34,1,34,2],[35,1,35,2],[36,1,36,2],[37,1,37,2],[38,1,38,2],[22,1,22,2],[28,1,29,2],[30,1,30,2],[31,1,31,2],[32,1,32,2],[25,0,26,5],[21,1,21,2],[10,1,10,2],[12,1,13,2],[14,1,14,2],[15,1,15,2],[16,1,16,2],[17,1,17,2],[18,1,18,2],[19,1,19,2],[20,1,20,2]]}
[]
[null,"CÁLCULO SOBRE LAS EMISIÓNES EN GANADO PORCINO"]
[]
[null,"EMISIÓN DE METANO POR GESTIÓN DE ESTIÉRCOL"]
[]
[]
[null,"Provincia","Factor de\n Conversión*",null,"Provincia",{"$f":"E.Datos2!D4","v":"Provincia"}]
[null,"Valencia",0.20741000000000001,null,"Factor de emisión",{"$f":"IF(F7=\"Provincia\",0,VLOOKUP(F7,$B$8:$C$10,2,0))","v":0}]
[null,"Alicante",0.20773]
[null,"Castellón de la Plana",0.20344999999999999]
[null,"* El factor de conversión para el contaminante CH4. Cambia dependiendo de la provincia de ubicación de la instalación"]
[]
[null,"Tipo de ganado porcino",null,"Nº de plazas","Excreción media \nde sólidos volátiles (Kg)","Peso específico del metano (Kg/m3)","Producción potencial de metano (m3/kg VS)","Factor de conversión (CH4*)","Factor de emisión \n(kg CH4/plaza)","Emisión de metano (Kg CH4)"]
[null,null,null,"A","B","C","D","E","F=(BxCxDxE)","G=AxF"]
[null,"Lechones de 6 a 20 kg.",null,{"$f":"E.Datos2!E21","v":0},28.93,0.67,0.45,{"$f":"IF($F$7=\"Provincia\",0,VLOOKUP($F$7,$B$8:$C$10,2,0))","v":0},{"$f":"E15*F15*G15*H15","v":0},{"$f":"I15*D15","v":0}]
[null,"Cerdos de 20 a 50 kg.",null,{"$f":"E.Datos2!E22","v":0},76.78,0.67,0.45,0,0,0]
[null,"Cerdos de 50 a 100 kg.",null,{"$f":"E.Datos2!E23","v":0},166.92,0.67,0.45,0,0,0]
[null,"Cerdos de 20 a 100 kg.",null,{"$f":"E.Datos2!E24","v":0},133.54,0.67,0.45,0,0,0]
[null,"Madres con lechones de 0 a 6 kg.",null,{"$f":"E.Datos2!E25","v":0},445.12,0.67,0.45,0,0,0]
[null,"Madres con lechones hasta 20 kg.",null,{"$f":"E.Datos2!E26","v":0},445.12,0.67,0.45,0,0,0]
[null,"Cerdas de reposición",null,{"$f":"E.Datos2!E27","v":0},178.05,0.67,0.45,0,0,0]
[null,"Cerdas en ciclo cerrado",null,{"$f":"E.Datos2!E28","v":0},1185.1400000000001,0.67,0.45,0,0,0]
[null,"Verracos",null,{"$f":"E.Datos2!E29","v":0},445.12,0.67,0.45,0,0,0]
[null,null,null,null,null,null,null,null,"Total",{"$f":"SUM(J15:J23)","v":0}]
[]
["EMISIÓN DE METANO POR FERMENTACIÓN ENTÉRICA"]
[]
[]
[null,"Tipo de ganado porcino",null,"Nº de plazas","Factor de emisión (Kg CH4 /plaza)","Emisión de metano (Kg CH4)"]
[null,null,null,"A","B","C=AxB"]
[null,"Lechones de 6 a 20 kg.",null,{"$f":"E.Datos2!E21","v":0},1.2,{"$f":"D31*E31","v":0}]
[null,"Cerdos de 20 a 50 kg.",null,{"$f":"E.Datos2!E22","v":0},1.2,0]
[null,"Cerdos de 50 a 100 kg.",null,{"$f":"E.Datos2!E23","v":0},1.2,0]
[null,"Cerdos de 20 a 100 kg.",null,{"$f":"E.Datos2!E24","v":0},1.2,0]
[null,"Madres con lechones de 0 a 6 kg.",null,{"$f":"E.Datos2!E25","v":0},1.5,0]
[null,"Madres con lechones hasta 20 kg.",null,{"$f":"E.Datos2!E26","v":0},1.5,0]
[null,"Cerdas de reposición",null,{"$f":"E.Datos2!E27","v":0},1.5,0]
[null,"Cerdas en ciclo cerrado",null,{"$f":"E.Datos2!E28","v":0},10.5,0]
[null,"Verracos",null,{"$f":"E.Datos2!E29","v":0},1.5,0]
[null,null,null,null,"Total",{"$f":"SUM(F31:F39)","v":0}]

{"sheet":"Resultados PRTR","index":5,"n_rows":21,"n_cols":3,"rows_kept":21,"cut":false,"hidden":false,"merged":[]}
[]
[null,"EMISIONES A NOTIFICAR EN PRTR-ESPAÑA"]
[null,"Sustancia","kg/año"]
[null,"Amoniaco (NH3)",{"$f":"IF(Calculos!CO18=0,\"\",Calculos!CO18)","v":""}]
[null,"Óxido nitroso (N2O)",{"$f":"IF(Calculos!BB18+Calculos!BL18=0,\"\",Calculos!BB18+Calculos!BL18)","v":""}]
[null,"Óxidos de nitrógeno (NOx)",{"$f":"IF(Calculos!BD18+Calculos!BN18=0,\"\",Calculos!BD18+Calculos!BN18)","v":""}]
[null,"Metano (CH4)",{"$f":"IF(SUM(Metano!J24+Metano!F40)=0,\"\",SUM(Metano!J24+Metano!F40))","v":""}]
[]
[]
[]
[]
[null,"Estas emisiones deben notificarse en la plataforma PRTR- España con:"]
[]
[null,"* Método de otención del dato: \"Calculado\"."]
[null,"* Origen del método: \"SSC\"."]
[null,"* Método de cálculo: \"Otros\". Estimador de emisiones de amoniaco y de nitrógeno en explotaciones de Porcino-MAPA."]
[null,"* Fuentes o referencias: \"Otros\". Estimador de emisiones de amoniaco y de nitrógeno en explotaciones de Porcino-MAPA."]
[]
[null,"En CH4 tanto en método de cálculo como fuentes / referencias debe indicar: "]
[]
[null,"* Cuadro de cálculo de emisiones de gases de sector ganadero en relación con la directiva IPPC."]

{"sheet":"Result. N","index":6,"n_rows":37,"n_cols":13,"rows_kept":37,"cut":false,"hidden":true,"merged":[[31,9,31,10],[31,7,31,8],[30,7,30,8],[0,3,2,12],[3,6,3,12],[19,4,19,11],[28,4,28,11],[30,9,30,11],[22,7,22,11],[21,7,21,12],[21,5,21,6],[36,4,36,11],[37,4,37,11],[32,7,32,8],[32,9,32,10],[33,9,33,10],[34,9,34,10],[35,9,35,10],[33,7,33,8],[34,7,34,8],[35,7,35,8],[33,4,33,6],[34,4,34,6],[35,4,35,6]]}
[null,null,null,"GANADO PORCINO"]
[]
[]
[null,null,null,null,null,null,"IDENTIFICACION DE LA EXPLOTACION"]
[null,null,null,null,null,null,"NOMBRE"]
[]
[null,null,null,null,null,null,"Nº REGISTRO REGA"]
[]
[null,null,null,null,null,null,"RESPONSABLE"]
[]
[null,null,null,null,null,null,"MODULO/NAVE"]
[]
[null,null,null,null,null,null,"AÑO DE CONSTRUCCIÓN"]
[null,null,null,null,null,null,"AÑO ÚLTIMA REFORMA"]
[]
[null,null,null,null,null,null,"LOCALIZACION"]
[]
[]
[]
[null,null,null,null,"RESULTADOS DE EXPLOTACIÓN"]
[]
[null,null,null,null,null,"Emisiones en NAVE",null,"Emisiones de Nitrógeno (kg N/año)"]
[null,null,null,null,null,null,"Referencia*","Explotación",null,null,null,null,"Referencia*"]
[null,null,null,null,null,"N - NH3","N - NH3","N - NH3","N - NOx","N - N2O","N - N2","N-total","N-total"]
[null,null,"Total",null,null,{"$f":"(Calculos!AD18+Calculos!AE18)","v":0},{"$f":"Calculos!AD47+Calculos!AE47","v":0},{"$f":"Calculos!CJ18","v":0},{"$f":"Calculos!CM18","v":0},{"$f":"Calculos!CK18","v":0},{"$f":"Calculos!CL18","v":0},{"$f":"Calculos!CN18","v":0},{"$f":"Calculos!CN47","v":0}]
[null,null,"Kg/plaza/año",null,null,{"$f":"IF(Calculos!C18=0,0,F25/Calculos!C18)","v":0},{"$f":"IF(Calculos!C47=0,0,G25/Calculos!C47)","v":0},{"$f":"IF(Calculos!$C$18=0,0,H25/Calculos!$C$18)","v":0},{"$f":"IF(Calculos!$C$18=0,0,I25/Calculos!$C$18)","v":0},{"$f":"IF(Calculos!$C$18=0,0,J25/Calculos!$C$18)","v":0},{"$f":"IF(Calculos!$C$18=0,0,K25/Calculos!$C$18)","v":0},{"$f":"IF(Calculos!$C$18=0,0,L25/Calculos!$C$18)","v":0},{"$f":"IF(Calculos!$C$18=0,0,M25/Calculos!$C$18)","v":0}]
[null,null,"% N emitido sobre N excretado",null,null,null,null,{"$f":"IF($H$34=0,0,H25/$H$34*100)","v":0},{"$f":"IF($H$34=0,0,I25/$H$34*100)","v":0},0,0,0,0]
[null,null,"% N respecto a situación de referencia",null,null,null,null,{"$f":"IF(Calculos!CO47=0,0,Calculos!CO18/Calculos!CO47*100)","v":0},{"$f":"IF(Calculos!CM47=0,\" \",Calculos!CM18/Calculos!CM47*100)","v":" "},{"$f":"IF(Calculos!CK47=0,\" \",Calculos!CK18/Calculos!CK47*100)","v":" "},{"$f":"IF(Calculos!CL47=0,\" \",Calculos!CL18/Calculos!CL47*100)","v":" "},{"$f":"IF(M25=0,0,L25/M25*100)","v":0}]
[null,null,null,null,"* La situación de referencia corresponden al empleo de las técnicas menos eficientes o más contaminantes."]
[]
[null,null,null,null,null,null,null,"Nitrógeno excretado",null,"N retenido en purín"]
[null,null,null,null,null,null,null,"Explotación",null,"Explotación",null,"Referencia*"]
[null,null,null,null,null,null,null,"(kg N / año)",null,"(kg N / año)",null,"N"]
[null,null,null,null,"Total granja",null,null,{"$f":"Calculos!E18","v":0},null,{"$f":"Calculos!CF18","v":0},null,{"$f":"Calculos!CF47","v":0}]
[null,null,null,null,"Kg/plaza/año",null,null,{"$f":"IF(Calculos!C18=0,0,H34/Calculos!C18)","v":0},null,{"$f":"IF(Calculos!$C$18=0,0,J34/Calculos!C18)","v":0},null,{"$f":"IF(Calculos!$C$18=0,0,L34/Calculos!C18)","v":0}]
[null,null,null,null,"% N sobre N excretado",null,null,{"$f":"H34/H34*100","v":{"$error":"#DIV/0!"}},null,{"$f":"J34/H34*100","v":{"$error":"#DIV/0!"}},null,{"$f":"L34/H34*100","v":{"$error":"#DIV/0!"}}]
[null,null,null,null,"* La situación de referencia corresponden al empleo de las técnicas menos eficientes o más contaminantes."]

{"sheet":"Calculos","index":7,"n_rows":47,"n_cols":94,"rows_kept":47,"cut":false,"hidden":true,"merged":[[0,50,0,58],[0,0,2,0],[0,1,2,1],[0,2,1,2],[0,10,0,15],[0,16,0,21],[1,91,2,91],[1,92,2,92],[0,3,0,6],[0,7,0,9],[0,37,0,40],[0,41,0,45],[0,46,0,49],[0,31,0,35],[0,22,0,30],[0,85,0,86],[0,83,0,84],[0,59,0,66],[0,69,0,70],[0,71,0,72],[0,73,0,77],[0,78,0,82],[29,0,31,0],[29,1,31,1],[29,2,30,2],[29,3,29,6],[29,7,29,9],[29,10,29,15],[29,16,29,21],[29,22,29,30],[29,31,29,35],[29,37,29,40],[29,41,29,45],[29,46,29,49],[29,50,29,58],[29,59,29,66],[29,69,29,70],[30,91,31,91],[30,92,31,92],[29,71,29,72],[29,73,29,77],[29,78,29,82],[29,83,29,84],[29,85,29,86]]}
["SPECIE","CAT_AA","N_AA","N excreted",null,null,null,"N Distribution",null,null,"GRAZING",null,null,null,null,null,"YARD_solid+slurry",null,null,null,null,null,"BUILD",null,null,null,null,null,null,null,null,"STRAW_exBUILD_solid  (kgN)",null,null,null,null,null,"DISTRIBUTION_exBUILD_solid",null,null,null,"DISTRIBUTION_BUILD_slurry",null,null,null,null,"DISTRIBUCION_YARD_solid+slurry (=YARD)",null,null,null,"STORE_solid (kg N)",null,null,null,null,null,null,null,null,"STORE_slurry  (kg N)",null,null,null,null,null,null,null,null,null,"DISTRIBUCION_STORE_solid",null,"DISTRIBUCION_STORE_slurry",null,"FIELD_solid",null,null,null,null,"FIELD_slurry",null,null,null,null,"FIELD TOTAL",null,"OTHERS",null,"EE N-NH3 TOTAL","EE N-N2O","EE N-N2","EE N-NOx","EE N-TOTAL","EE-NH3"]
[null,null,null,"Nex_T / AA","Nex_T","x_TAN-T","TAN-T","x_GRAZ","x_YARD","x_BUILD","N_GRAZ","TAN_GRAZ","EE_GRAZ","N_ret_GRAZ","TAN_GRAZING_solid+slurry","CHECK-1","N_YARD_solid+slurry","TAN_YARD_solid+slurry","EE_YARD_solid+slurry","N_ret_YARD","TAN_YARD_solid+slurry","CHECK-2","X_BUILD_solid","X_BUILD_slurry","N_BUILD_solid","N_BUILD_slurry","TAN_BUILD_solid","TAN_BUILD_slurry","CHECK-3","EE_BUILD_solid","EE_BUILD_slurry","N_STRAW","N_exBUILD_solid ","TAN_exBUILD_solid","N_ex_BUILD_slurry","TAN_ex_BUILD_slurry","CHECK-4","x_exBUILD_solid-to-STORE_solid","x_exBUILD_solid-to-STORE_slurry","x_exBUILD_solid-to-FIELD_solid","x_exBUILD_solid-to-OTHER","x_BUILD_slurry-to-STORE_solid","x_BUILD_slurry-to-STORE_slurry","x_BUILD_slurry-to-FIELD_solid","x_BUILD_slurry-to-FIELD_slurry","x_BUILD_slurry-to-OTHERS","x_YARD-to-STORE_solid","x_YARD-to-STORE_slurry","x_YARD-to-FIELD_solid","x_YARD-to-OTHERS","N_STORE_solid","TAN_STORE_solid","EE_NH3_STORE_solid","EE_N2O_STORE_solid","EE_N2_STORE_solid","EE_NOx_STORE_solid","N_ex_STORE_solid","TAN_ex_STORE_solid","CHECK-5","N_STORE_slurry","TAN_STORE_slurry","minTAN_STORE_slurry","EE_NH3_STORE_slurry","EE_N2O_STORE_slurry","EE_N2_STORE_slurry","EE_NOx_STORE_slurry","N_ex_STORE_slurry","TAN_ex_STORE_slurry","CHECK-6","x_STORE_solid-to-FIELD_solid","x_STORE_slurry-to-OTHERS","x_STORE_slurry-to-FIELD_slurry","x_STORE_slurry-to-OTHERS","N_FIELD_solid","TAN_FIELD_solid","EE_FIELD_solid","N_ex_FIELD_solid","TAN_ex_FIELD_solid","N_FIELD_slurry","TAN_FIELD_slurry","EE_FIELD_slurry","N_ex_SFIELD_slurry","TAN_ex_FIELD_slurry","N_ex_SFIELD_total","TAN_ex_FIELD_total","N_OTHERS_solid","TAN_total","(PM=17)","(PM=44)","(PM=28)","(PM=46)","kg N","kg NH3","CHECK"]
[null,null,"nº animals","kg N/AA","kg N","kg N-TAN/AA","kg N-TAN",null,null,null,"Kg N","Kg N-NH3","kg  N-NH3","Kg N","kg  N-NH3",null,"Kg N","Kg N-NH3","kg  N-NH3","Kg N","kg  N-NH3",null,null,null,"Kg N","Kg N","kg  N-NH3","kg  N-NH3",null,"kg  N-NH3","kg  N-NH3","kg N / AA","N_ret_BUILD_solid","TAN_ret_BUILD_solid","N_ret_BUILD_slurry","TAN_ret_BUILD_slurry",null,null,null,null,null,null,null,null,null,null,null,null,null,null,null,null,"kg  N-NH3","kg  N2O","kg  N2","kg  NOx","N_ret_STORE_solid","TAN_ret_STORE_solid",null,null,null,null,"kg  N-NH3","kg  N2O","kg  N2","kg  NOx","N_ret_STORE_slurry","TAN_ret_STORE_slurry",null,null,null,null,null,"kg N ","kg","kg N-NH3","N_ret_FIELD_solid","TAN_ret_FIELD_solid","kg N ","kg","kg N-NH3","N_ret_FIELD_slurry","TAN_ret_FIELD_slurry","N_ret_FIELD_total","TAN_ret_FIELD_total","kg N ","kg","kg N","kg N","kg N","kg N"]
["CERDO","Lechones destetados ",{"$f":"E.Datos!E25","v":0},3.45,{"$f":"C4*D4","v":0},{"$f":"'F.Dist.'!D4","v":0.73623188405797102},{"$f":"E4*F4","v":0},{"$f":"'F.Dist.'!E4","v":0},{"$f":"'F.Dist.'!F4","v":0},{"$f":"'F.Dist.'!G4","v":1},{"$f":"E4*H4","v":0},{"$f":"G4*H4","v":0},{"$f":"L4*'F.EE.'!F3","v":0},{"$f":"K4-M4","v":0},{"$f":"L4-M4","v":0},{"$f":"(H4*G4)-(M4+O4)","v":0},{"$f":"E4*I4","v":0},{"$f":"G4*I4","v":0},{"$f":"R4*'F.EE.'!I3","v":0},{"$f":"Q4-S4","v":0},{"$f":"R4-S4","v":0},{"$f":"T4+S4+N4+M4-(E4*H4+E4*I4)","v":0},{"$f":"'F.Dist.'!H4","v":0},{"$f":"'F.Dist.'!I4","v":1},{"$f":"E4*J4*W4","v":0},{"$f":"E4*J4*X4","v":0},{"$f":"G4*J4*W4","v":0},{"$f":"G4*J4*X4","v":0},{"$f":"(AA4+AB4)-G4*J4","v":0},{"$f":"AA4*'F.EE.'!M3","v":0},{"$f":"AB4*'F.EE.'!Q3","v":0},{"$f":"'F.Dist.'!J4","v":0},{"$f":"(C4*AF4*J4*W4)+Y4-AD4","v":0},{"$f":"(AA4-AD4)*(1-0.0067)","v":0},{"$f":"Z4-AE4","v":0},{"$f":"AB4-AE4","v":0},{"$f":"(AG4+AI4+T4+N4)+(M4+S4+AD4+AE4)-(E4+AF4*C4*J4*W4)","v":0},{"$f":"'F.Dist.'!L4","v":0},{"$f":"'F.Dist.'!M4","v":0},{"$f":"'F.Dist.'!N4","v":0},{"$f":"'F.Dist.'!O4","v":0},{"$f":"'F.Dist.'!R4","v":0},{"$f":"'F.Dist.'!S4","v":1},{"$f":"'F.Dist.'!U4","v":0},{"$f":"'F.Dist.'!V4","v":0},{"$f":"'F.Dist.'!W4","v":0},{"$f":"'F.Dist.'!Y4","v":0},{"$f":"'F.Dist.'!Z4","v":0},{"$f":"'F.Dist.'!AA4","v":0},{"$f":"'F.Dist.'!AB4","v":0},{"$f":"AG4*AL4+T4*AU4+AI4*AP4","v":0},{"$f":"AH4*AL4+AJ4*AP4+U4*AU4","v":0},{"$f":"AZ4*'F.EE.'!T3","v":0},{"$f":"(AZ4*'F.EE.'!AE3)","v":0},{"$f":"(AZ4*'F.EE.'!AF3)","v":0},{"$f":"(AZ4*'F.EE.'!AG3)","v":0},{"$f":"AY4-BA4-BB4*(28/44)-BC4-BD4*(14/46)","v":0},{"$f":"AZ4-BA4-BB4*(28/44)-BC4-BD4*(14/46)","v":0},{"$f":"(BE4+BA4+BC4+BB4*28/44+BD4*14/46)-AY4","v":0},{"$f":"AG4*AM4+AI4*AQ4+T4*AV4","v":0},{"$f":"AH4*AM4+AJ4*AQ4+U4*AV4","v":0},{"$f":"BI4+(BH4-BI4)*0.1","v":0},{"$f":"BJ4*'F.EE.'!W3","v":0},{"$f":"BJ4*'F.EE.'!AH3","v":0},{"$f":"BJ4*'F.EE.'!AI3","v":0},{"$f":"BJ4*'F.EE.'!AJ3","v":0},{"$f":"BH4-BK4-BL4*(28/44)-BM4-BN4*(14/46)","v":0},{"$f":"BJ4-BK4-BL4*(28/44)-BM4-BN4*(14/46)","v":0},{"$f":"(BO4+BK4+BM4+BL4*28/44+BN4*14/46)-BH4","v":0},{"$f":"'F.Dist.'!AD4","v":0},{"$f":"'F.Dist.'!AE4","v":1},{"$f":"'F.Dist.'!AF4","v":0},{"$f":"'F.Dist.'!AG4","v":1},{"$f":"BE4*BR4+AG4*AN4+AI4*AR4+T4*AW4","v":0},{"$f":"BF4*BR4+AH4*AN4+AJ4*AR4+U4*AW4","v":0},{"$f":"BW4*'F.EE.'!Z3","v":0},{"$f":"BV4-BX4","v":0},{"$f":"BW4-BX4","v":0},{"$f":"AI4*AS4+BO4*BT4","v":0},{"$f":"AJ4*AS4+BP4*BT4","v":0},{"$f":"CB4*'F.EE.'!AC3","v":0},{"$f":"CA4-CC4","v":0},{"$f":"CB4-CC4","v":0},{"$f":"CD4+BY4+N4","v":0},{"$f":"CE4+BZ4+O4","v":0},{"$f":"T4*AX4+BO4*BU4+BE4*BS4+AI4*AT4+AG4*AO4","v":0},{"$f":"U4*AX4+BP4*BU4+BF4*BS4+AJ4*AT4+AH4*AO4","v":0},{"$f":"CC4+BX4+BK4+BA4+AE4+AD4+S4+M4","v":0},{"$f":"(BL4+BB4)*28/44","v":0},{"$f":"(BM4+BC4)","v":0},{"$f":"(BN4+BD4)*14/46","v":0},{"$f":"SUM(CJ4:CM4)","v":0},{"$f":"CJ4*17/14","v":0},{"$f":"(E4+(AF4*C4*J4*W4)-(CH4+CN4+CF4))","v":0}]
["CERDO","Cerdo 20-49 kg",{"$f":"E.Datos!E27","v":0},8.81,{"$f":"C5*D5","v":0},{"$f":"'F.Dist.'!D5","v":0.72077185017026102},{"$f":"E5*F5","v":0},{"$f":"'F.Dist.'!E5","v":0},{"$f":"'F.Dist.'!F5","v":0},{"$f":"'F.Dist.'!G5","v":1},{"$f":"E5*H5","v":0},{"$f":"G5*H5","v":0},{"$f":"L5*'F.EE.'!F4","v":0},{"$f":"K5-M5","v":0},{"$f":"L5-M5","v":0},{"$f":"(H5*G5)-(M5+O5)","v":0},{"$f":"E5*I5","v":0},{"$f":"G5*I5","v":0},{"$f":"R5*'F.EE.'!I4","v":0},{"$f":"Q5-S5","v":0},{"$f":"R5-S5","v":0},{"$f":"T5+S5+N5+M5-(E5*H5+E5*I5)","v":0},{"$f":"'F.Dist.'!H5","v":0},{"$f":"'F.Dist.'!I5","v":1},{"$f":"E5*J5*W5","v":0},{"$f":"E5*J5*X5","v":0},{"$f":"G5*J5*W5","v":0},{"$f":"G5*J5*X5","v":0},{"$f":"(AA5+AB5)-G5*J5","v":0},{"$f":"AA5*'F.EE.'!M4","v":0},{"$f":"AB5*'F.EE.'!Q4","v":0},{"$f":"'F.Dist.'!J5","v":0},{"$f":"(C5*AF5*J5*W5)+Y5-AD5","v":0},{"$f":"(AA5-AD5)*(1-0.0067)","v":0},{"$f":"Z5-AE5","v":0},{"$f":"AB5-AE5","v":0},{"$f":"(AG5+AI5+T5+N5)+(M5+S5+AD5+AE5)-(E5+AF5*C5*J5*W5)","v":0},{"$f":"'F.Dist.'!L5","v":0},{"$f":"'F.Dist.'!M5","v":0},{"$f":"'F.Dist.'!N5","v":0},{"$f":"'F.Dist.'!O5","v":0},{"$f":"'F.Dist.'!R5","v":0},{"$f":"'F.Dist.'!S5","v":1},{"$f":"'F.Dist.'!U5","v":0},{"$f":"'F.Dist.'!V5","v":0},{"$f":"'F.Dist.'!W5","v":0},{"$f":"'F.Dist.'!Y5","v":0},{"$f":"'F.Dist.'!Z5","v":0},{"$f":"'F.Dist.'!AA5","v":0},{"$f":"'F.Dist.'!AB5","v":0},{"$f":"AG5*AL5+T5*AU5+AI5*AP5","v":0},{"$f":"AH5*AL5+AJ5*AP5+U5*AU5","v":0},{"$f":"AZ5*'F.EE.'!T4","v":0},{"$f":"(AZ5*'F.EE.'!AE4)","v":0},{"$f":"(AZ5*'F.EE.'!AF4)","v":0},{"$f":"(AZ5*'F.EE.'!AG4)","v":0},0,0,0,{"$f":"AG5*AM5+AI5*AQ5+T5*AV5","v":0},{"$f":"AH5*AM5+AJ5*AQ5+U5*AV5","v":0},{"$f":"BI5+(BH5-BI5)*0.1","v":0},{"$f":"BJ5*'F.EE.'!W4","v":0},{"$f":"BJ5*'F.EE.'!AH4","v":0},{"$f":"BJ5*'F.EE.'!AI4","v":0},{"$f":"BJ5*'F.EE.'!AJ4","v":0},0,0,0,{"$f":"'F.Dist.'!AD5","v":0},{"$f":"'F.Dist.'!AE5","v":1},{"$f":"'F.Dist.'!AF5","v":0},{"$f":"'F.Dist.'!AG5","v":1},{"$f":"BE5*BR5+AG5*AN5+AI5*AR5+T5*AW5","v":0},{"$f":"BF5*BR5+AH5*AN5+AJ5*AR5+U5*AW5","v":0},{"$f":"BW5*'F.EE.'!Z4","v":0},{"$f":"BV5-BX5","v":0},{"$f":"BW5-BX5","v":0},{"$f":"AI5*AS5+BO5*BT5","v":0},{"$f":"AJ5*AS5+BP5*BT5","v":0},{"$f":"CB5*'F.EE.'!AC4","v":0},{"$f":"CA5-CC5","v":0},{"$f":"CB5-CC5","v":0},{"$f":"CD5+BY5+N5","v":0},{"$f":"CE5+BZ5+O5","v":0},{"$f":"T5*AX5+BO5*BU5+BE5*BS5+AI5*AT5+AG5*AO5","v":0},{"$f":"U5*AX5+BP5*BU5+BF5*BS5+AJ5*AT5+AH5*AO5","v":0},{"$f":"CC5+BX5+BK5+BA5+AE5+AD5+S5+M5","v":0},{"$f":"(BL5+BB5)*28/44","v":0},{"$f":"(BM5+BC5)","v":0},0,{"$f":"SUM(CJ5:CM5)","v":0},{"$f":"CJ5*17/14","v":0},{"$f":"(E5+(AF5*C5*J5*W5)-(CH5+CN5+CF5))","v":0}]
["CERDO","Cerdo 50-79 kg",{"$f":"E.Datos!E29","v":0},10.72,{"$f":"C6*D6","v":0},{"$f":"'F.Dist.'!D6","v":0.72108208955223885},{"$f":"E6*F6","v":0},{"$f":"'F.Dist.'!E6","v":0},{"$f":"'F.Dist.'!F6","v":0},{"$f":"'F.Dist.'!G6","v":1},{"$f":"E6*H6","v":0},{"$f":"G6*H6","v":0},{"$f":"L6*'F.EE.'!F5","v":0},{"$f":"K6-M6","v":0},{"$f":"L6-M6","v":0},{"$f":"(H6*G6)-(M6+O6)","v":0},{"$f":"E6*I6","v":0},{"$f":"G6*I6","v":0},{"$f":"R6*'F.EE.'!I5","v":0},{"$f":"Q6-S6","v":0},{"$f":"R6-S6","v":0},{"$f":"T6+S6+N6+M6-(E6*H6+E6*I6)","v":0},{"$f":"'F.Dist.'!H6","v":0},{"$f":"'F.Dist.'!I6","v":1},{"$f":"E6*J6*W6","v":0},{"$f":"E6*J6*X6","v":0},{"$f":"G6*J6*W6","v":0},{"$f":"G6*J6*X6","v":0},{"$f":"(AA6+AB6)-G6*J6","v":0},{"$f":"AA6*'F.EE.'!M5","v":0},{"$f":"AB6*'F.EE.'!Q5","v":0},{"$f":"'F.Dist.'!J6","v":0},{"$f":"(C6*AF6*J6*W6)+Y6-AD6","v":0},{"$f":"(AA6-AD6)*(1-0.0067)","v":0},{"$f":"Z6-AE6","v":0},{"$f":"AB6-AE6","v":0},{"$f":"(AG6+AI6+T6+N6)+(M6+S6+AD6+AE6)-(E6+AF6*C6*J6*W6)","v":0},{"$f":"'F.Dist.'!L6","v":0},{"$f":"'F.Dist.'!M6","v":0},{"$f":"'F.Dist.'!N6","v":0},{"$f":"'F.Dist.'!O6","v":0},{"$f":"'F.Dist.'!R6","v":0},{"$f":"'F.Dist.'!S6","v":1},{"$f":"'F.Dist.'!U6","v":0},{"$f":"'F.Dist.'!V6","v":0},{"$f":"'F.Dist.'!W6","v":0},{"$f":"'F.Dist.'!Y6","v":0},{"$f":"'F.Dist.'!Z6","v":0},{"$f":"'F.Dist.'!AA6","v":0},{"$f":"'F.Dist.'!AB6","v":0},{"$f":"AG6*AL6+T6*AU6+AI6*AP6","v":0},{"$f":"AH6*AL6+AJ6*AP6+U6*AU6","v":0},{"$f":"AZ6*'F.EE.'!T5","v":0},{"$f":"(AZ6*'F.EE.'!AE5)","v":0},{"$f":"(AZ6*'F.EE.'!AF5)","v":0},{"$f":"(AZ6*'F.EE.'!AG5)","v":0},0,0,0,{"$f":"AG6*AM6+AI6*AQ6+T6*AV6","v":0},{"$f":"AH6*AM6+AJ6*AQ6+U6*AV6","v":0},{"$f":"BI6+(BH6-BI6)*0.1","v":0},{"$f":"BJ6*'F.EE.'!W5","v":0},{"$f":"BJ6*'F.EE.'!AH5","v":0},{"$f":"BJ6*'F.EE.'!AI5","v":0},{"$f":"BJ6*'F.EE.'!AJ5","v":0},0,0,0,{"$f":"'F.Dist.'!AD6","v":0},{"$f":"'F.Dist.'!AE6","v":1},{"$f":"'F.Dist.'!AF6","v":0},{"$f":"'F.Dist.'!AG6","v":1},{"$f":"BE6*BR6+AG6*AN6+AI6*AR6+T6*AW6","v":0},{"$f":"BF6*BR6+AH6*AN6+AJ6*AR6+U6*AW6","v":0},{"$f":"BW6*'F.EE.'!Z5","v":0},{"$f":"BV6-BX6","v":0},{"$f":"BW6-BX6","v":0},{"$f":"AI6*AS6+BO6*BT6","v":0},{"$f":"AJ6*AS6+BP6*BT6","v":0},{"$f":"CB6*'F.EE.'!AC5","v":0},{"$f":"CA6-CC6","v":0},{"$f":"CB6-CC6","v":0},{"$f":"CD6+BY6+N6","v":0},{"$f":"CE6+BZ6+O6","v":0},{"$f":"T6*AX6+BO6*BU6+BE6*BS6+AI6*AT6+AG6*AO6","v":0},{"$f":"U6*AX6+BP6*BU6+BF6*BS6+AJ6*AT6+AH6*AO6","v":0},{"$f":"CC6+BX6+BK6+BA6+AE6+AD6+S6+M6","v":0},{"$f":"(BL6+BB6)*28/44","v":0},{"$f":"(BM6+BC6)","v":0},0,{"$f":"SUM(CJ6:CM6)","v":0},{"$f":"CJ6*17/14","v":0},{"$f":"(E6+(AF6*C6*J6*W6)-(CH6+CN6+CF6))","v":0}]
["CERDO","Cerdo 80-109 kg",{"$f":"E.Datos!E31","v":0},11.68,0,{"$f":"'F.Dist.'!D7","v":0.72003424657534254},0,{"$f":"'F.Dist.'!E7","v":0},{"$f":"'F.Dist.'!F7","v":0},{"$f":"'F.Dist.'!G7","v":1},0,0,{"$f":"L7*'F.EE.'!F6","v":0},0,0,{"$f":"(H7*G7)-(M7+O7)","v":0},0,0,{"$f":"R7*'F.EE.'!I6","v":0},0,0,{"$f":"T7+S7+N7+M7-(E7*H7+E7*I7)","v":0},{"$f":"'F.Dist.'!H7","v":0},{"$f":"'F.Dist.'!I7","v":1},0,0,0,0,0,{"$f":"AA7*'F.EE.'!M6","v":0},{"$f":"AB7*'F.EE.'!Q6","v":0},{"$f":"'F.Dist.'!J7","v":0},0,0,0,0,0,{"$f":"'F.Dist.'!L7","v":0},{"$f":"'F.Dist.'!M7","v":0},{"$f":"'F.Dist.'!N7","v":0},{"$f":"'F.Dist.'!O7","v":0},{"$f":"'F.Dist.'!R7","v":0},{"$f":"'F.Dist.'!S7","v":1},{"$f":"'F.Dist.'!U7","v":0},{"$f":"'F.Dist.'!V7","v":0},{"$f":"'F.Dist.'!W7","v":0},{"$f":"'F.Dist.'!Y7","v":0},{"$f":"'F.Dist.'!Z7","v":0},{"$f":"'F.Dist.'!AA7","v":0},{"$f":"'F.Dist.'!AB7","v":0},0,0,{"$f":"AZ7*'F.EE.'!T6","v":0},{"$f":"(AZ7*'F.EE.'!AE6)","v":0},{"$f":"(AZ7*'F.EE.'!AF6)","v":0},{"$f":"(AZ7*'F.EE.'!AG6)","v":0},0,0,0,0,0,0,{"$f":"BJ7*'F.EE.'!W6","v":0},{"$f":"BJ7*'F.EE.'!AH6","v":0},{"$f":"BJ7*'F.EE.'!AI6","v":0},{"$f":"BJ7*'F.EE.'!AJ6","v":0},0,0,0,{"$f":"'F.Dist.'!AD7","v":0},{"$f":"'F.Dist.'!AE7","v":1},{"$f":"'F.Dist.'!AF7","v":0},{"$f":"'F.Dist.'!AG7","v":1},{"$f":"BE7*BR7+AG7*AN7+AI7*AR7+T7*AW7","v":0},0,{"$f":"BW7*'F.EE.'!Z6","v":0},{"$f":"BV7-BX7","v":0},0,0,0,{"$f":"CB7*'F.EE.'!AC6","v":0},0,0,{"$f":"CD7+BY7+N7","v":0},0,0,0,0,0,0,0,0,0,0]
["CERDO","Cerdo > 110 kg",{"$f":"E.Datos!E33","v":0},12.06,0,{"$f":"'F.Dist.'!D8","v":0.70232172470978449},0,{"$f":"'F.Dist.'!E8","v":0},{"$f":"'F.Dist.'!F8","v":0},{"$f":"'F.Dist.'!G8","v":1},0,0,{"$f":"L8*'F.EE.'!F7","v":0},0,0,0,0,0,{"$f":"R8*'F.EE.'!I7","v":0},0,0,0,{"$f":"'F.Dist.'!H8","v":0},{"$f":"'F.Dist.'!I8","v":1},{"$f":"E8*J8*W8","v":0},0,0,0,{"$f":"(AA8+AB8)-G8*J8","v":0},{"$f":"AA8*'F.EE.'!M7","v":0},{"$f":"AB8*'F.EE.'!Q7","v":0},{"$f":"'F.Dist.'!J8","v":0},0,0,0,0,0,{"$f":"'F.Dist.'!L8","v":0},{"$f":"'F.Dist.'!M8","v":0},{"$f":"'F.Dist.'!N8","v":0},{"$f":"'F.Dist.'!O8","v":0},{"$f":"'F.Dist.'!R8","v":0},{"$f":"'F.Dist.'!S8","v":1},{"$f":"'F.Dist.'!U8","v":0},{"$f":"'F.Dist.'!V8","v":0},{"$f":"'F.Dist.'!W8","v":0},{"$f":"'F.Dist.'!Y8","v":0},{"$f":"'F.Dist.'!Z8","v":0},{"$f":"'F.Dist.'!AA8","v":0},{"$f":"'F.Dist.'!AB8","v":0},0,0,{"$f":"AZ8*'F.EE.'!T7","v":0},{"$f":"(AZ8*'F.EE.'!AE7)","v":0},{"$f":"(AZ8*'F.EE.'!AF7)","v":0},{"$f":"(AZ8*'F.EE.'!AG7)","v":0},0,0,0,0,0,0,{"$f":"BJ8*'F.EE.'!W7","v":0},{"$f":"BJ8*'F.EE.'!AH7","v":0},{"$f":"BJ8*'F.EE.'!AI7","v":0},{"$f":"BJ8*'F.EE.'!AJ7","v":0},0,0,0,{"$f":"'F.Dist.'!AD8","v":0},{"$f":"'F.Dist.'!AE8","v":1},{"$f":"'F.Dist.'!AF8","v":0},{"$f":"'F.Dist.'!AG8","v":1},0,0,{"$f":"BW8*'F.EE.'!Z7","v":0},0,0,0,0,{"$f":"CB8*'F.EE.'!AC7","v":0},0,0,0,0,0,0,0,0,0,0,0,0,0]
["CERDO","Verracos jóvenes",{"$f":"E.Datos!E35","v":0},16.22,0,{"$f":"'F.Dist.'!D9","v":0.76633785450061653},0,{"$f":"'F.Dist.'!E9","v":0},{"$f":"'F.Dist.'!F9","v":0},{"$f":"'F.Dist.'!G9","v":1},0,0,{"$f":"L9*'F.EE.'!F8","v":0},0,0,0,0,0,{"$f":"R9*'F.EE.'!I8","v":0},0,0,0,{"$f":"'F.Dist.'!H9","v":0},{"$f":"'F.Dist.'!I9","v":1},0,0,0,0,0,{"$f":"AA9*'F.EE.'!M8","v":0},{"$f":"AB9*'F.EE.'!Q8","v":0},{"$f":"'F.Dist.'!J9","v":0},0,0,0,0,0,{"$f":"'F.Dist.'!L9","v":0},{"$f":"'F.Dist.'!M9","v":0},{"$f":"'F.Dist.'!N9","v":0},{"$f":"'F.Dist.'!O9","v":0},{"$f":"'F.Dist.'!R9","v":0},{"$f":"'F.Dist.'!S9","v":1},{"$f":"'F.Dist.'!U9","v":0},{"$f":"'F.Dist.'!V9","v":0},{"$f":"'F.Dist.'!W9","v":0},{"$f":"'F.Dist.'!Y9","v":0},{"$f":"'F.Dist.'!Z9","v":0},{"$f":"'F.Dist.'!AA9","v":0},{"$f":"'F.Dist.'!AB9","v":0},0,0,{"$f":"AZ9*'F.EE.'!T8","v":0},{"$f":"(AZ9*'F.EE.'!AE8)","v":0},{"$f":"(AZ9*'F.EE.'!AF8)","v":0},{"$f":"(AZ9*'F.EE.'!AG8)","v":0},0,0,0,0,0,0,{"$f":"BJ9*'F.EE.'!W8","v":0},{"$f":"BJ9*'F.EE.'!AH8","v":0},{"$f":"BJ9*'F.EE.'!AI8","v":0},{"$f":"BJ9*'F.EE.'!AJ8","v":0},0,0,0,{"$f":"'F.Dist.'!AD9","v":0},{"$f":"'F.Dist.'!AE9","v":1},{"$f":"'F.Dist.'!AF9","v":0},{"$f":"'F.Dist.'!AG9","v":1},0,0,{"$f":"BW9*'F.EE.'!Z8","v":0},0,0,0,0,{"$f":"CB9*'F.EE.'!AC8","v":0},0,0,0,0,0,0,0,0,0,0,0,0,0]
["CERDO","Verracos adultos",{"$f":"E.Datos!E37","v":0},18.75,0,{"$f":"'F.Dist.'!D10","v":0.74879999999999991},0,{"$f":"'F.Dist.'!E10","v":0},{"$f":"'F.Dist.'!F10","v":0},{"$f":"'F.Dist.'!G10","v":1},0,0,{"$f":"L10*'F.EE.'!F9","v":0},0,0,0,0,0,{"$f":"R10*'F.EE.'!I9","v":0},0,0,0,{"$f":"'F.Dist.'!H10","v":0},{"$f":"'F.Dist.'!I10","v":1},0,0,0,0,0,{"$f":"AA10*'F.EE.'!M9","v":0},{"$f":"AB10*'F.EE.'!Q9","v":0},{"$f":"'F.Dist.'!J10","v":0},0,0,0,0,0,{"$f":"'F.Dist.'!L10","v":0},{"$f":"'F.Dist.'!M10","v":0},{"$f":"'F.Dist.'!N10","v":0},{"$f":"'F.Dist.'!O10","v":0},{"$f":"'F.Dist.'!R10","v":0},{"$f":"'F.Dist.'!S10","v":1},{"$f":"'F.Dist.'!U10","v":0},{"$f":"'F.Dist.'!V10","v":0},{"$f":"'F.Dist.'!W10","v":0},{"$f":"'F.Dist.'!Y10","v":0},{"$f":"'F.Dist.'!Z10","v":0},{"$f":"'F.Dist.'!AA10","v":0},{"$f":"'F.Dist.'!AB10","v":0},0,0,{"$f":"AZ10*'F.EE.'!T9","v":0},{"$f":"(AZ10*'F.EE.'!AE9)","v":0},{"$f":"(AZ10*'F.EE.'!AF9)","v":0},{"$f":"(AZ10*'F.EE.'!AG9)","v":0},0,0,0,0,0,0,{"$f":"BJ10*'F.EE.'!W9","v":0},{"$f":"BJ10*'F.EE.'!AH9","v":0},{"$f":"BJ10*'F.EE.'!AI9","v":0},{"$f":"BJ10*'F.EE.'!AJ9","v":0},0,0,0,{"$f":"'F.Dist.'!AD10","v":0},{"$f":"'F.Dist.'!AE10","v":1},{"$f":"'F.Dist.'!AF10","v":0},{"$f":"'F.Dist.'!AG10","v":1},0,0,{"$f":"BW10*'F.EE.'!Z9","v":0},0,0,0,0,{"$f":"CB10*'F.EE.'!AC9","v":0},0,0,0,0,0,0,0,0,0,0,0,0,0]
["CERDO","Reproductora no cubierta",{"$f":"E.Datos!E39","v":0},13.2,0,{"$f":"'F.Dist.'!D11","v":0.67803030303030298},0,{"$f":"'F.Dist.'!E11","v":0},{"$f":"'F.Dist.'!F11","v":0},{"$f":"'F.Dist.'!G11","v":1},0,0,{"$f":"L11*'F.EE.'!F10","v":0},0,0,0,0,0,{"$f":"R11*'F.EE.'!I10","v":0},0,0,0,{"$f":"'F.Dist.'!H11","v":0},{"$f":"'F.Dist.'!I11","v":1},0,0,0,0,0,{"$f":"AA11*'F.EE.'!M10","v":0},{"$f":"AB11*'F.EE.'!Q10","v":0},{"$f":"'F.Dist.'!J11","v":0},0,0,0,0,0,{"$f":"'F.Dist.'!L11","v":0},{"$f":"'F.Dist.'!M11","v":0},{"$f":"'F.Dist.'!N11","v":0},{"$f":"'F.Dist.'!O11","v":0},{"$f":"'F.Dist.'!R11","v":0},{"$f":"'F.Dist.'!S11","v":1},{"$f":"'F.Dist.'!U11","v":0},{"$f":"'F.Dist.'!V11","v":0},{"$f":"'F.Dist.'!W11","v":0},{"$f":"'F.Dist.'!Y11","v":0},{"$f":"'F.Dist.'!Z11","v":0},{"$f":"'F.Dist.'!AA11","v":0},{"$f":"'F.Dist.'!AB11","v":0},0,0,{"$f":"AZ11*'F.EE.'!T10","v":0},{"$f":"(AZ11*'F.EE.'!AE10)","v":0},{"$f":"(AZ11*'F.EE.'!AF10)","v":0},{"$f":"(AZ11*'F.EE.'!AG10)","v":0},0,0,0,0,0,0,{"$f":"BJ11*'F.EE.'!W10","v":0},{"$f":"BJ11*'F.EE.'!AH10","v":0},{"$f":"BJ11*'F.EE.'!AI10","v":0},{"$f":"BJ11*'F.EE.'!AJ10","v":0},0,0,0,{"$f":"'F.Dist.'!AD11","v":0},{"$f":"'F.Dist.'!AE11","v":1},{"$f":"'F.Dist.'!AF11","v":0},{"$f":"'F.Dist.'!AG11","v":1},0,0,{"$f":"BW11*'F.EE.'!Z10","v":0},0,0,0,0,{"$f":"CB11*'F.EE.'!AC10","v":0},0,0,0,0,0,0,0,0,0,0,0,0,0]
["CERDO","Reproductora en 1ª gestación",{"$f":"E.Datos!E41","v":0},14,0,{"$f":"'F.Dist.'!D12","v":0.71571428571428564},0,{"$f":"'F.Dist.'!E12","v":0},{"$f":"'F.Dist.'!F12","v":0},{"$f":"'F.Dist.'!G12","v":1},0,0,{"$f":"L12*'F.EE.'!F11","v":0},0,0,0,0,0,{"$f":"R12*'F.EE.'!I11","v":0},0,0,0,{"$f":"'F.Dist.'!H12","v":0},{"$f":"'F.Dist.'!I12","v":1},0,0,0,0,0,{"$f":"AA12*'F.EE.'!M11","v":0},{"$f":"AB12*'F.EE.'!Q11","v":0},{"$f":"'F.Dist.'!J12","v":0},0,0,0,0,0,{"$f":"'F.Dist.'!L12","v":0},{"$f":"'F.Dist.'!M12","v":0},{"$f":"'F.Dist.'!N12","v":0},{"$f":"'F.Dist.'!O12","v":0},{"$f":"'F.Dist.'!R12","v":0},{"$f":"'F.Dist.'!S12","v":1},{"$f":"'F.Dist.'!U12","v":0},{"$f":"'F.Dist.'!V12","v":0},{"$f":"'F.Dist.'!W12","v":0},{"$f":"'F.Dist.'!Y12","v":0},{"$f":"'F.Dist.'!Z12","v":0},{"$f":"'F.Dist.'!AA12","v":0},{"$f":"'F.Dist.'!AB12","v":0},0,0,{"$f":"AZ12*'F.EE.'!T11","v":0},{"$f":"(AZ12*'F.EE.'!AE11)","v":0},{"$f":"(AZ12*'F.EE.'!AF11)","v":0},{"$f":"(AZ12*'F.EE.'!AG11)","v":0},0,0,0,0,0,0,{"$f":"BJ12*'F.EE.'!W11","v":0},{"$f":"BJ12*'F.EE.'!AH11","v":0},{"$f":"BJ12*'F.EE.'!AI11","v":0},{"$f":"BJ12*'F.EE.'!AJ11","v":0},0,0,0,{"$f":"'F.Dist.'!AD12","v":0},{"$f":"'F.Dist.'!AE12","v":1},{"$f":"'F.Dist.'!AF12","v":0},{"$f":"'F.Dist.'!AG12","v":1},0,0,{"$f":"BW12*'F.EE.'!Z11","v":0},0,0,0,0,{"$f":"CB12*'F.EE.'!AC11","v":0},0,0,0,0,0,0,0,0,0,0,0,0,0]
["CERDO","Reproductora en gestación",{"$f":"E.Datos!E43","v":0},15.7,0,{"$f":"'F.Dist.'!D13","v":0.73439490445859867},0,{"$f":"'F.Dist.'!E13","v":0},{"$f":"'F.Dist.'!F13","v":0},{"$f":"'F.Dist.'!G13","v":1},0,0,{"$f":"L13*'F.EE.'!F12","v":0},0,0,0,0,0,{"$f":"R13*'F.EE.'!I12","v":0},0,0,0,{"$f":"'F.Dist.'!H13","v":0},{"$f":"'F.Dist.'!I13","v":1},0,0,0,0,0,{"$f":"AA13*'F.EE.'!M12","v":0},{"$f":"AB13*'F.EE.'!Q12","v":0},{"$f":"'F.Dist.'!J13","v":0},0,0,0,0,0,{"$f":"'F.Dist.'!L13","v":0},{"$f":"'F.Dist.'!M13","v":0},{"$f":"'F.Dist.'!N13","v":0},{"$f":"'F.Dist.'!O13","v":0},{"$f":"'F.Dist.'!R13","v":0},{"$f":"'F.Dist.'!S13","v":1},{"$f":"'F.Dist.'!U13","v":0},{"$f":"'F.Dist.'!V13","v":0},{"$f":"'F.Dist.'!W13","v":0},{"$f":"'F.Dist.'!Y13","v":0},{"$f":"'F.Dist.'!Z13","v":0},{"$f":"'F.Dist.'!AA13","v":0},{"$f":"'F.Dist.'!AB13","v":0},0,0,{"$f":"AZ13*'F.EE.'!T12","v":0},{"$f":"(AZ13*'F.EE.'!AE12)","v":0},{"$f":"(AZ13*'F.EE.'!AF12)","v":0},{"$f":"(AZ13*'F.EE.'!AG12)","v":0},0,0,0,0,0,0,{"$f":"BJ13*'F.EE.'!W12","v":0},{"$f":"BJ13*'F.EE.'!AH12","v":0},{"$f":"BJ13*'F.EE.'!AI12","v":0},{"$f":"BJ13*'F.EE.'!AJ12","v":0},0,0,0,{"$f":"'F.Dist.'!AD13","v":0},{"$f":"'F.Dist.'!AE13","v":1},{"$f":"'F.Dist.'!AF13","v":0},{"$f":"'F.Dist.'!AG13","v":1},0,0,{"$f":"BW13*'F.EE.'!Z12","v":0},0,0,0,0,{"$f":"CB13*'F.EE.'!AC12","v":0},0,0,0,0,0,0,0,0,0,0,0,0,0]
["CERDO","Reproductoras criando por 1ª vez",{"$f":"E.Datos!E45","v":0},37.15,0,{"$f":"'F.Dist.'!D14","v":0.7235531628532974},0,{"$f":"'F.Dist.'!E14","v":0},{"$f":"'F.Dist.'!F14","v":0},{"$f":"'F.Dist.'!G14","v":1},0,0,{"$f":"L14*'F.EE.'!F13","v":0},0,0,0,0,0,{"$f":"R14*'F.EE.'!I13","v":0},0,0,0,{"$f":"'F.Dist.'!H14","v":0},{"$f":"'F.Dist.'!I14","v":1},0,0,0,0,0,{"$f":"AA14*'F.EE.'!M13","v":0},{"$f":"AB14*'F.EE.'!Q13","v":0},{"$f":"'F.Dist.'!J14","v":0},0,0,0,0,0,{"$f":"'F.Dist.'!L14","v":0},{"$f":"'F.Dist.'!M14","v":0},{"$f":"'F.Dist.'!N14","v":0},{"$f":"'F.Dist.'!O14","v":0},{"$f":"'F.Dist.'!R14","v":0},{"$f":"'F.Dist.'!S14","v":1},{"$f":"'F.Dist.'!U14","v":0},{"$f":"'F.Dist.'!V14","v":0},{"$f":"'F.Dist.'!W14","v":0},{"$f":"'F.Dist.'!Y14","v":0},{"$f":"'F.Dist.'!Z14","v":0},{"$f":"'F.Dist.'!AA14","v":0},{"$f":"'F.Dist.'!AB14","v":0},0,0,{"$f":"AZ14*'F.EE.'!T13","v":0},{"$f":"(AZ14*'F.EE.'!AE13)","v":0},{"$f":"(AZ14*'F.EE.'!AF13)","v":0},{"$f":"(AZ14*'F.EE.'!AG13)","v":0},0,0,0,0,0,0,{"$f":"BJ14*'F.EE.'!W13","v":0},{"$f":"BJ14*'F.EE.'!AH13","v":0},{"$f":"BJ14*'F.EE.'!AI13","v":0},{"$f":"BJ14*'F.EE.'!AJ13","v":0},0,0,0,{"$f":"'F.Dist.'!AD14","v":0},{"$f":"'F.Dist.'!AE14","v":1},{"$f":"'F.Dist.'!AF14","v":0},{"$f":"'F.Dist.'!AG14","v":1},0,0,{"$f":"BW14*'F.EE.'!Z13","v":0},0,0,0,0,{"$f":"CB14*'F.EE.'!AC13","v":0},0,0,0,0,0,0,0,0,0,0,0,0,0]
["CERDO","Reproductoras criando",{"$f":"E.Datos!E47","v":0},40.06,0,{"$f":"'F.Dist.'!D15","v":0.73065401897154258},0,{"$f":"'F.Dist.'!E15","v":0},{"$f":"'F.Dist.'!F15","v":0},{"$f":"'F.Dist.'!G15","v":1},0,0,{"$f":"L15*'F.EE.'!F14","v":0},0,0,0,0,0,{"$f":"R15*'F.EE.'!I14","v":0},0,0,0,{"$f":"'F.Dist.'!H15","v":0},{"$f":"'F.Dist.'!I15","v":1},0,0,0,0,0,{"$f":"AA15*'F.EE.'!M14","v":0},{"$f":"AB15*'F.EE.'!Q14","v":0},{"$f":"'F.Dist.'!J15","v":0},0,0,0,0,0,{"$f":"'F.Dist.'!L15","v":0},{"$f":"'F.Dist.'!M15","v":0},{"$f":"'F.Dist.'!N15","v":0},{"$f":"'F.Dist.'!O15","v":0},{"$f":"'F.Dist.'!R15","v":0},{"$f":"'F.Dist.'!S15","v":1},{"$f":"'F.Dist.'!U15","v":0},{"$f":"'F.Dist.'!V15","v":0},{"$f":"'F.Dist.'!W15","v":0},{"$f":"'F.Dist.'!Y15","v":0},{"$f":"'F.Dist.'!Z15","v":0},{"$f":"'F.Dist.'!AA15","v":0},{"$f":"'F.Dist.'!AB15","v":0},0,0,{"$f":"AZ15*'F.EE.'!T14","v":0},{"$f":"(AZ15*'F.EE.'!AE14)","v":0},{"$f":"(AZ15*'F.EE.'!AF14)","v":0},{"$f":"(AZ15*'F.EE.'!AG14)","v":0},0,0,0,0,0,0,{"$f":"BJ15*'F.EE.'!W14","v":0},{"$f":"BJ15*'F.EE.'!AH14","v":0},{"$f":"BJ15*'F.EE.'!AI14","v":0},{"$f":"BJ15*'F.EE.'!AJ14","v":0},0,0,0,{"$f":"'F.Dist.'!AD15","v":0},{"$f":"'F.Dist.'!AE15","v":1},{"$f":"'F.Dist.'!AF15","v":0},{"$f":"'F.Dist.'!AG15","v":1},0,0,{"$f":"BW15*'F.EE.'!Z14","v":0},0,0,0,0,{"$f":"CB15*'F.EE.'!AC14","v":0},0,0,0,0,0,0,0,0,0,0,0,0,0]
["CERDO","Reproductoras en reposo 1ª vez",{"$f":"E.Datos!E49","v":0},14.9,0,{"$f":"'F.Dist.'!D16","v":0.823489932885906},0,{"$f":"'F.Dist.'!E16","v":0},{"$f":"'F.Dist.'!F16","v":0},{"$f":"'F.Dist.'!G16","v":1},0,0,{"$f":"L16*'F.EE.'!F15","v":0},0,0,0,0,0,{"$f":"R16*'F.EE.'!I15","v":0},0,0,0,{"$f":"'F.Dist.'!H16","v":0},{"$f":"'F.Dist.'!I16","v":1},0,0,0,0,0,{"$f":"AA16*'F.EE.'!M15","v":0},{"$f":"AB16*'F.EE.'!Q15","v":0},{"$f":"'F.Dist.'!J16","v":0},0,0,0,0,0,{"$f":"'F.Dist.'!L16","v":0},{"$f":"'F.Dist.'!M16","v":0},{"$f":"'F.Dist.'!N16","v":0},{"$f":"'F.Dist.'!O16","v":0},{"$f":"'F.Dist.'!R16","v":0},{"$f":"'F.Dist.'!S16","v":1},{"$f":"'F.Dist.'!U16","v":0},{"$f":"'F.Dist.'!V16","v":0},{"$f":"'F.Dist.'!W16","v":0},{"$f":"'F.Dist.'!Y16","v":0},{"$f":"'F.Dist.'!Z16","v":0},{"$f":"'F.Dist.'!AA16","v":0},{"$f":"'F.Dist.'!AB16","v":0},0,0,{"$f":"AZ16*'F.EE.'!T15","v":0},{"$f":"(AZ16*'F.EE.'!AE15)","v":0},{"$f":"(AZ16*'F.EE.'!AF15)","v":0},{"$f":"(AZ16*'F.EE.'!AG15)","v":0},0,0,0,0,0,0,{"$f":"BJ16*'F.EE.'!W15","v":0},{"$f":"BJ16*'F.EE.'!AH15","v":0},{"$f":"BJ16*'F.EE.'!AI15","v":0},{"$f":"BJ16*'F.EE.'!AJ15","v":0},0,0,0,{"$f":"'F.Dist.'!AD16","v":0},{"$f":"'F.Dist.'!AE16","v":1},{"$f":"'F.Dist.'!AF16","v":0},{"$f":"'F.Dist.'!AG16","v":1},0,0,{"$f":"BW16*'F.EE.'!Z15","v":0},0,0,0,0,{"$f":"CB16*'F.EE.'!AC15","v":0},0,0,0,0,0,0,0,0,0,0,0,0,0]
["CERDO","Reproductoras en reposo",{"$f":"E.Datos!E51","v":0},14.97,0,{"$f":"'F.Dist.'!D17","v":0.76486305945223776},0,{"$f":"'F.Dist.'!E17","v":0},{"$f":"'F.Dist.'!F17","v":0},{"$f":"'F.Dist.'!G17","v":1},0,0,{"$f":"L17*'F.EE.'!F16","v":0},0,0,0,0,0,{"$f":"R17*'F.EE.'!I16","v":0},0,0,0,{"$f":"'F.Dist.'!H17","v":0},{"$f":"'F.Dist.'!I17","v":1},0,0,0,0,0,{"$f":"AA17*'F.EE.'!M16","v":0},{"$f":"AB17*'F.EE.'!Q16","v":0},{"$f":"'F.Dist.'!J17","v":0},0,0,0,0,0,{"$f":"'F.Dist.'!L17","v":0},{"$f":"'F.Dist.'!M17","v":0},{"$f":"'F.Dist.'!N17","v":0},{"$f":"'F.Dist.'!O17","v":0},{"$f":"'F.Dist.'!R17","v":0},{"$f":"'F.Dist.'!S17","v":1},{"$f":"'F.Dist.'!U17","v":0},{"$f":"'F.Dist.'!V17","v":0},{"$f":"'F.Dist.'!W17","v":0},{"$f":"'F.Dist.'!Y17","v":0},{"$f":"'F.Dist.'!Z17","v":0},{"$f":"'F.Dist.'!AA17","v":0},{"$f":"'F.Dist.'!AB17","v":0},0,0,{"$f":"AZ17*'F.EE.'!T16","v":0},{"$f":"(AZ17*'F.EE.'!AE16)","v":0},{"$f":"(AZ17*'F.EE.'!AF16)","v":0},{"$f":"(AZ17*'F.EE.'!AG16)","v":0},0,0,0,0,0,0,{"$f":"BJ17*'F.EE.'!W16","v":0},{"$f":"BJ17*'F.EE.'!AH16","v":0},{"$f":"BJ17*'F.EE.'!AI16","v":0},{"$f":"BJ17*'F.EE.'!AJ16","v":0},0,0,0,{"$f":"'F.Dist.'!AD17","v":0},{"$f":"'F.Dist.'!AE17","v":1},{"$f":"'F.Dist.'!AF17","v":0},{"$f":"'F.Dist.'!AG17","v":1},0,0,{"$f":"BW17*'F.EE.'!Z16","v":0},0,0,0,0,{"$f":"CB17*'F.EE.'!AC16","v":0},0,0,0,0,0,0,0,0,0,0,0,0,0]
["TOTALS",null,{"$f":"SUM(C4:C17)","v":0},null,{"$f":"SUM(E4:E17)","v":0},null,{"$f":"SUM(G4:G17)","v":0},null,null,null,{"$f":"SUM(K4:K17)","v":0},{"$f":"SUM(L4:L17)","v":0},{"$f":"SUM(M4:M17)","v":0},{"$f":"SUM(N4:N17)","v":0},{"$f":"SUM(O4:O17)","v":0},null,{"$f":"SUM(Q4:Q17)","v":0},{"$f":"SUM(R4:R17)","v":0},{"$f":"SUM(S4:S17)","v":0},{"$f":"SUM(T4:T17)","v":0},{"$f":"SUM(U4:U17)","v":0},null,null,null,{"$f":"SUM(Y4:Y17)","v":0},{"$f":"SUM(Z4:Z17)","v":0},{"$f":"SUM(AA4:AA17)","v":0},{"$f":"SUM(AB4:AB17)","v":0},null,{"$f":"SUM(AD4:AD17)","v":0},{"$f":"SUM(AE4:AE17)","v":0},null,{"$f":"SUM(AG4:AG17)","v":0},{"$f":"SUM(AH4:AH17)","v":0},{"$f":"SUM(AI4:AI17)","v":0},0,null,null,null,null,null,null,null,null,null,null,null,null,null,null,{"$f":"SUM(AY4:AY17)","v":0},{"$f":"SUM(AZ4:AZ17)","v":0},{"$f":"SUM(BA4:BA17)","v":0},{"$f":"SUM(BB4:BB17)","v":0},0,0,{"$f":"SUM(BE4:BE17)","v":0},{"$f":"SUM(BF4:BF17)","v":0},null,{"$f":"SUM(BH4:BH17)","v":0},{"$f":"SUM(BI4:BI17)","v":0},0,{"$f":"SUM(BK4:BK17)","v":0},{"$f":"SUM(BL4:BL17)","v":0},0,0,{"$f":"SUM(BO4:BO17)","v":0},{"$f":"SUM(BP4:BP17)","v":0},null,null,null,null,null,{"$f":"SUM(BV4:BV17)","v":0},0,0,0,0,0,0,0,0,0,0,0,{"$f":"SUM(CH4:CH17)","v":0},0,0,0,0,0,0,{"$f":"CJ18*17/14","v":0}]
[]
[]
[]
[]
[]
[]
[]
[]
[]
[]
[]
["SPECIE","CAT_AA","N_AA","N excreted",null,null,null,"N Distribution",null,null,"GRAZING",null,null,null,null,null,"YARD_solid+slurry",null,null,null,null,null,"BUILD",null,null,null,null,null,null,null,null,"STRAW_exBUILD_solid  (kgN)",null,null,null,null,null,"DISTRIBUTION_exBUILD_solid",null,null,null,"DISTRIBUTION_BUILD_slurry",null,null,null,null,"DISTRIBUCION_YARD_solid+slurry (=YARD)",null,null,null,"STORE_solid (kg N)",null,null,null,null,null,null,null,null,"STORE_slurry  (kg N)",null,null,null,null,null,null,null,null,null,"DISTRIBUCION_STORE_solid",null,"DISTRIBUCION_STORE_slurry",null,"FIELD_solid",null,null,null,null,"FIELD_slurry",null,null,null,null,"FIELD TOTAL",null,"OTHERS",null,"EE N-NH3 TOTAL","EE N-N2O","EE N-N2","EE N-NOx","EE N-TOTAL","EE-NH3"]
[null,null,null,"Nex_T / AA","Nex_T","x_TAN-T","TAN-T","x_GRAZ","x_YARD","x_BUILD","N_GRAZ","TAN_GRAZ","EE_GRAZ","N_ret_GRAZ","TAN_GRAZING_solid+slurry","CHECK-1","N_YARD_solid+slurry","TAN_YARD_solid+slurry","EE_YARD_solid+slurry","N_ret_YARD","TAN_YARD_solid+slurry","CHECK-2","X_BUILD_solid","X_BUILD_slurry","N_BUILD_solid","N_BUILD_slurry","TAN_BUILD_solid","TAN_BUILD_slurry","CHECK-3","EE_BUILD_solid","EE_BUILD_slurry","N_STRAW","N_exBUILD_solid ","TAN_exBUILD_solid","N_ex_BUILD_slurry","TAN_ex_BUILD_slurry","CHECK-4","x_exBUILD_solid-to-STORE_solid","x_exBUILD_solid-to-STORE_slurry","x_exBUILD_solid-to-FIELD_solid","x_exBUILD_solid-to-OTHER","x_BUILD_slurry-to-STORE_solid","x_BUILD_slurry-to-STORE_slurry","x_BUILD_slurry-to-FIELD_solid","x_BUILD_slurry-to-FIELD_slurry","x_BUILD_slurry-to-OTHERS","x_YARD-to-STORE_solid","x_YARD-to-STORE_slurry","x_YARD-to-FIELD_solid","x_YARD-to-OTHERS","N_STORE_solid","TAN_STORE_solid","EE_NH3_STORE_solid","EE_N2O_STORE_solid","EE_N2_STORE_solid","EE_NOx_STORE_solid","N_ex_STORE_solid","TAN_ex_STORE_solid","CHECK-5","N_STORE_slurry","TAN_STORE_slurry","minTAN_STORE_slurry","EE_NH3_STORE_slurry","EE_N2O_STORE_slurry","EE_N2_STORE_slurry","EE_NOx_STORE_slurry","N_ex_STORE_slurry","TAN_ex_STORE_slurry","CHECK-6","x_STORE_solid-to-FIELD_solid","x_STORE_slurry-to-OTHERS","x_STORE_slurry-to-FIELD_slurry","x_STORE_slurry-to-OTHERS","N_FIELD_solid","TAN_FIELD_solid","EE_FIELD_solid","N_ex_FIELD_solid","TAN_ex_FIELD_solid","N_FIELD_slurry","TAN_FIELD_slurry","EE_FIELD_slurry","N_ex_SFIELD_slurry","TAN_ex_FIELD_slurry","N_ex_SFIELD_total","TAN_ex_FIELD_total","N_OTHERS_solid","TAN_total","(PM=17)","(PM=44)","(PM=28)","(PM=46)","kg N","kg NH3","CHECK"]
[null,null,"nº animals","kg N/AA","kg N","kg N-TAN/AA","kg N-TAN",null,null,null,"Kg N","Kg N-NH3","kg  N-NH3","Kg N","kg  N-NH3",null,"Kg N","Kg N-NH3","kg  N-NH3","Kg N","kg  N-NH3",null,null,null,"Kg N","Kg N","kg  N-NH3","kg  N-NH3",null,"kg  N-NH3","kg  N-NH3","kg N / AA","N_ret_BUILD_solid","TAN_ret_BUILD_solid","N_ret_BUILD_slurry","TAN_ret_BUILD_slurry",null,null,null,null,null,null,null,null,null,null,null,null,null,null,null,null,"kg  N-NH3","kg  N2O","kg  N2","kg  NOx","N_ret_STORE_solid","TAN_ret_STORE_solid",null,null,null,null,"kg  N-NH3","kg  N2O","kg  N2","kg  NOx","N_ret_STORE_slurry","TAN_ret_STORE_slurry",null,null,null,null,null,"kg N ","kg","kg N-NH3","N_ret_FIELD_solid","TAN_ret_FIELD_solid","kg N ","kg","kg N-NH3","N_ret_FIELD_slurry","TAN_ret_FIELD_slurry","N_ret_FIELD_total","TAN_ret_FIELD_total","kg N ","kg","kg N","kg N","kg N","kg N"]
["CERDO","Lechones destetados ",{"$f":"E.Datos!E25","v":0},3.45,{"$f":"C33*D33","v":0},{"$f":"'F.Dist.'!D4","v":0.73623188405797102},{"$f":"E33*F33","v":0},{"$f":"'F.Dist.'!E4","v":0},{"$f":"'F.Dist.'!F4","v":0},{"$f":"'F.Dist.'!G4","v":1},{"$f":"E33*H33","v":0},{"$f":"G33*H33","v":0},{"$f":"L33*'F.EE.'!D3","v":0},{"$f":"K33-M33","v":0},{"$f":"L33-M33","v":0},{"$f":"(H33*G33)-(M33+O33)","v":0},{"$f":"E33*I33","v":0},{"$f":"G33*I33","v":0},{"$f":"R33*'F.EE.'!G3","v":0},{"$f":"Q33-S33","v":0},{"$f":"R33-S33","v":0},{"$f":"T33+S33+N33+M33-(E33*H33+E33*I33)","v":0},{"$f":"'F.Dist.'!H4","v":0},{"$f":"'F.Dist.'!I4","v":1},{"$f":"E33*J33*W33","v":0},{"$f":"E33*J33*X33","v":0},{"$f":"G33*J33*W33","v":0},{"$f":"G33*J33*X33","v":0},{"$f":"(AA33+AB33)-G33*J33","v":0},{"$f":"AA33*'F.EE.'!J3","v":0},{"$f":"AB33*'F.EE.'!N3","v":0},{"$f":"'F.Dist.'!J4","v":0},{"$f":"(C33*AF33*J33*W33)+Y33-AD33","v":0},{"$f":"(AA33-AD33)*(1-0.0067)","v":0},{"$f":"Z33-AE33","v":0},{"$f":"AB33-AE33","v":0},{"$f":"(AG33+AI33+T33+N33)+(M33+S33+AD33+AE33)-(E33+AF33*C33*J33*W33)","v":0},{"$f":"'F.Dist.'!L4","v":0},{"$f":"'F.Dist.'!M4","v":0},{"$f":"'F.Dist.'!N4","v":0},{"$f":"'F.Dist.'!O4","v":0},{"$f":"'F.Dist.'!R4","v":0},{"$f":"'F.Dist.'!S4","v":1},{"$f":"'F.Dist.'!U4","v":0},{"$f":"'F.Dist.'!V4","v":0},{"$f":"'F.Dist.'!W4","v":0},{"$f":"'F.Dist.'!Y4","v":0},{"$f":"'F.Dist.'!Z4","v":0},{"$f":"'F.Dist.'!AA4","v":0},{"$f":"'F.Dist.'!AB4","v":0},{"$f":"AG33*AL33+T33*AU33+AI33*AP33","v":0},{"$f":"AH33*AL33+AJ33*AP33+U33*AU33","v":0},{"$f":"AZ33*'F.EE.'!R3","v":0},{"$f":"(AZ33*'F.EE.'!AE3)","v":0},{"$f":"(AZ33*'F.EE.'!AF3)","v":0},{"$f":"(AZ33*'F.EE.'!AG3)","v":0},{"$f":"AY33-BA33-BB33*(28/44)-BC33-BD33*(14/46)","v":0},{"$f":"AZ33-BA33-BB33*(28/44)-BC33-BD33*(14/46)","v":0},{"$f":"(BE33+BA33+BC33+BB33*28/44+BD33*14/46)-AY33","v":0},{"$f":"AG33*AM33+AI33*AQ33+T33*AV33","v":0},{"$f":"AH33*AM33+AJ33*AQ33+U33*AV33","v":0},{"$f":"BI33+(BH33-BI33)*0.1","v":0},{"$f":"BJ33*'F.EE.'!U3","v":0},{"$f":"BJ33*'F.EE.'!AH3","v":0},{"$f":"BJ33*'F.EE.'!AI3","v":0},{"$f":"BJ33*'F.EE.'!AJ3","v":0},{"$f":"BH33-BK33-BL33*(28/44)-BM33-BN33*(14/46)","v":0},{"$f":"BJ33-BK33-BL33*(28/44)-BM33-BN33*(14/46)","v":0},{"$f":"(BO33+BK33+BM33+BL33*28/44+BN33*14/46)-BH33","v":0},{"$f":"'F.Dist.'!AD4","v":0},{"$f":"'F.Dist.'!AE4","v":1},{"$f":"'F.Dist.'!AF4","v":0},{"$f":"'F.Dist.'!AG4","v":1},{"$f":"BE33*BR33+AG33*AN33+AI33*AR33+T33*AW33","v":0},{"$f":"BF33*BR33+AH33*AN33+AJ33*AR33+U33*AW33","v":0},{"$f":"BW33*'F.EE.'!X3","v":0},{"$f":"BV33-BX33","v":0},{"$f":"BW33-BX33","v":0},{"$f":"AI33*AS33+BO33*BT33","v":0},{"$f":"AJ33*AS33+BP33*BT33","v":0},{"$f":"CB33*'F.EE.'!AA3","v":0},{"$f":"CA33-CC33","v":0},{"$f":"CB33-CC33","v":0},{"$f":"CD33+BY33+N33","v":0},{"$f":"CE33+BZ33+O33","v":0},{"$f":"T33*AX33+BO33*BU33+BE33*BS33+AI33*AT33+AG33*AO33","v":0},{"$f":"U33*AX33+BP33*BU33+BF33*BS33+AJ33*AT33+AH33*AO33","v":0},{"$f":"CC33+BX33+BK33+BA33+AE33+AD33+S33+M33","v":0},{"$f":"(BL33+BB33)*28/44","v":0},{"$f":"(BM33+BC33)","v":0},{"$f":"(BN33+BD33)*14/46","v":0},{"$f":"SUM(CJ33:CM33)","v":0},{"$f":"CJ33*17/14","v":0},{"$f":"(E33+(AF33*C33*J33*W33)-(CH33+CN33+CF33))","v":0}]
["CERDO","Cerdo 20-49 kg",{"$f":"E.Datos!E27","v":0},8.81,{"$f":"C34*D34","v":0},{"$f":"'F.Dist.'!D5","v":0.72077185017026102},{"$f":"E34*F34","v":0},{"$f":"'F.Dist.'!E5","v":0},{"$f":"'F.Dist.'!F5","v":0},{"$f":"'F.Dist.'!G5","v":1},{"$f":"E34*H34","v":0},{"$f":"G34*H34","v":0},{"$f":"L34*'F.EE.'!D4","v":0},{"$f":"K34-M34","v":0},{"$f":"L34-M34","v":0},{"$f":"(H34*G34)-(M34+O34)","v":0},{"$f":"E34*I34","v":0},{"$f":"G34*I34","v":0},{"$f":"R34*'F.EE.'!G4","v":0},{"$f":"Q34-S34","v":0},{"$f":"R34-S34","v":0},{"$f":"T34+S34+N34+M34-(E34*H34+E34*I34)","v":0},{"$f":"'F.Dist.'!H5","v":0},{"$f":"'F.Dist.'!I5","v":1},{"$f":"E34*J34*W34","v":0},{"$f":"E34*J34*X34","v":0},{"$f":"G34*J34*W34","v":0},{"$f":"G34*J34*X34","v":0},{"$f":"(AA34+AB34)-G34*J34","v":0},{"$f":"AA34*'F.EE.'!J4","v":0},{"$f":"AB34*'F.EE.'!N4","v":0},{"$f":"'F.Dist.'!J5","v":0},{"$f":"(C34*AF34*J34*W34)+Y34-AD34","v":0},{"$f":"(AA34-AD34)*(1-0.0067)","v":0},{"$f":"Z34-AE34","v":0},{"$f":"AB34-AE34","v":0},{"$f":"(AG34+AI34+T34+N34)+(M34+S34+AD34+AE34)-(E34+AF34*C34*J34*W34)","v":0},{"$f":"'F.Dist.'!L5","v":0},{"$f":"'F.Dist.'!M5","v":0},{"$f":"'F.Dist.'!N5","v":0},{"$f":"'F.Dist.'!O5","v":0},{"$f":"'F.Dist.'!R5","v":0},{"$f":"'F.Dist.'!S5","v":1},{"$f":"'F.Dist.'!U5","v":0},{"$f":"'F.Dist.'!V5","v":0},{"$f":"'F.Dist.'!W5","v":0},{"$f":"'F.Dist.'!Y5","v":0},{"$f":"'F.Dist.'!Z5","v":0},{"$f":"'F.Dist.'!AA5","v":0},{"$f":"'F.Dist.'!AB5","v":0},{"$f":"AG34*AL34+T34*AU34+AI34*AP34","v":0},{"$f":"AH34*AL34+AJ34*AP34+U34*AU34","v":0},{"$f":"AZ34*'F.EE.'!R4","v":0},{"$f":"(AZ34*'F.EE.'!AE4)","v":0},{"$f":"(AZ34*'F.EE.'!AF4)","v":0},{"$f":"(AZ34*'F.EE.'!AG4)","v":0},0,0,0,{"$f":"AG34*AM34+AI34*AQ34+T34*AV34","v":0},{"$f":"AH34*AM34+AJ34*AQ34+U34*AV34","v":0},{"$f":"BI34+(BH34-BI34)*0.1","v":0},{"$f":"BJ34*'F.EE.'!U4","v":0},{"$f":"BJ34*'F.EE.'!AH4","v":0},{"$f":"BJ34*'F.EE.'!AI4","v":0},{"$f":"BJ34*'F.EE.'!AJ4","v":0},0,0,0,{"$f":"'F.Dist.'!AD5","v":0},{"$f":"'F.Dist.'!AE5","v":1},{"$f":"'F.Dist.'!AF5","v":0},{"$f":"'F.Dist.'!AG5","v":1},{"$f":"BE34*BR34+AG34*AN34+AI34*AR34+T34*AW34","v":0},{"$f":"BF34*BR34+AH34*AN34+AJ34*AR34+U34*AW34","v":0},{"$f":"BW34*'F.EE.'!X4","v":0},{"$f":"BV34-BX34","v":0},{"$f":"BW34-BX34","v":0},{"$f":"AI34*AS34+BO34*BT34","v":0},{"$f":"AJ34*AS34+BP34*BT34","v":0},{"$f":"CB34*'F.EE.'!AA4","v":0},{"$f":"CA34-CC34","v":0},{"$f":"CB34-CC34","v":0},{"$f":"CD34+BY34+N34","v":0},{"$f":"CE34+BZ34+O34","v":0},{"$f":"T34*AX34+BO34*BU34+BE34*BS34+AI34*AT34+AG34*AO34","v":0},{"$f":"U34*AX34+BP34*BU34+BF34*BS34+AJ34*AT34+AH34*AO34","v":0},{"$f":"CC34+BX34+BK34+BA34+AE34+AD34+S34+M34","v":0},{"$f":"(BL34+BB34)*28/44","v":0},{"$f":"(BM34+BC34)","v":0},0,{"$f":"SUM(CJ34:CM34)","v":0},{"$f":"CJ34*17/14","v":0},{"$f":"(E34+(AF34*C34*J34*W34)-(CH34+CN34+CF34))","v":0}]
["CERDO","Cerdo 50-79 kg",{"$f":"E.Datos!E29","v":0},10.72,{"$f":"C35*D35","v":0},{"$f":"'F.Dist.'!D6","v":0.72108208955223885},{"$f":"E35*F35","v":0},{"$f":"'F.Dist.'!E6","v":0},{"$f":"'F.Dist.'!F6","v":0},{"$f":"'F.Dist.'!G6","v":1},{"$f":"E35*H35","v":0},{"$f":"G35*H35","v":0},{"$f":"L35*'F.EE.'!D5","v":0},{"$f":"K35-M35","v":0},{"$f":"L35-M35","v":0},{"$f":"(H35*G35)-(M35+O35)","v":0},{"$f":"E35*I35","v":0},{"$f":"G35*I35","v":0},{"$f":"R35*'F.EE.'!G5","v":0},{"$f":"Q35-S35","v":0},{"$f":"R35-S35","v":0},{"$f":"T35+S35+N35+M35-(E35*H35+E35*I35)","v":0},{"$f":"'F.Dist.'!H6","v":0},{"$f":"'F.Dist.'!I6","v":1},{"$f":"E35*J35*W35","v":0},{"$f":"E35*J35*X35","v":0},{"$f":"G35*J35*W35","v":0},{"$f":"G35*J35*X35","v":0},{"$f":"(AA35+AB35)-G35*J35","v":0},{"$f":"AA35*'F.EE.'!J5","v":0},{"$f":"AB35*'F.EE.'!N5","v":0},{"$f":"'F.Dist.'!J6","v":0},{"$f":"(C35*AF35*J35*W35)+Y35-AD35","v":0},{"$f":"(AA35-AD35)*(1-0.0067)","v":0},{"$f":"Z35-AE35","v":0},{"$f":"AB35-AE35","v":0},{"$f":"(AG35+AI35+T35+N35)+(M35+S35+AD35+AE35)-(E35+AF35*C35*J35*W35)","v":0},{"$f":"'F.Dist.'!L6","v":0},{"$f":"'F.Dist.'!M6","v":0},{"$f":"'F.Dist.'!N6","v":0},{"$f":"'F.Dist.'!O6","v":0},{"$f":"'F.Dist.'!R6","v":0},{"$f":"'F.Dist.'!S6","v":1},{"$f":"'F.Dist.'!U6","v":0},{"$f":"'F.Dist.'!V6","v":0},{"$f":"'F.Dist.'!W6","v":0},{"$f":"'F.Dist.'!Y6","v":0},{"$f":"'F.Dist.'!Z6","v":0},{"$f":"'F.Dist.'!AA6","v":0},{"$f":"'F.Dist.'!AB6","v":0},{"$f":"AG35*AL35+T35*AU35+AI35*AP35","v":0},{"$f":"AH35*AL35+AJ35*AP35+U35*AU35","v":0},{"$f":"AZ35*'F.EE.'!R5","v":0},{"$f":"(AZ35*'F.EE.'!AE5)","v":0},{"$f":"(AZ35*'F.EE.'!AF5)","v":0},{"$f":"(AZ35*'F.EE.'!AG5)","v":0},0,0,0,{"$f":"AG35*AM35+AI35*AQ35+T35*AV35","v":0},{"$f":"AH35*AM35+AJ35*AQ35+U35*AV35","v":0},{"$f":"BI35+(BH35-BI35)*0.1","v":0},{"$f":"BJ35*'F.EE.'!U5","v":0},{"$f":"BJ35*'F.EE.'!AH5","v":0},{"$f":"BJ35*'F.EE.'!AI5","v":0},{"$f":"BJ35*'F.EE.'!AJ5","v":0},0,0,0,{"$f":"'F.Dist.'!AD6","v":0},{"$f":"'F.Dist.'!AE6","v":1},{"$f":"'F.Dist.'!AF6","v":0},{"$f":"'F.Dist.'!AG6","v":1},{"$f":"BE35*BR35+AG35*AN35+AI35*AR35+T35*AW35","v":0},{"$f":"BF35*BR35+AH35*AN35+AJ35*AR35+U35*AW35","v":0},{"$f":"BW35*'F.EE.'!X5","v":0},{"$f":"BV35-BX35","v":0},{"$f":"BW35-BX35","v":0},{"$f":"AI35*AS35+BO35*BT35","v":0},{"$f":"AJ35*AS35+BP35*BT35","v":0},{"$f":"CB35*'F.EE.'!AA5","v":0},{"$f":"CA35-CC35","v":0},{"$f":"CB35-CC35","v":0},{"$f":"CD35+BY35+N35","v":0},{"$f":"CE35+BZ35+O35","v":0},{"$f":"T35*AX35+BO35*BU35+BE35*BS35+AI35*AT35+AG35*AO35","v":0},{"$f":"U35*AX35+BP35*BU35+BF35*BS35+AJ35*AT35+AH35*AO35","v":0},{"$f":"CC35+BX35+BK35+BA35+AE35+AD35+S35+M35","v":0},{"$f":"(BL35+BB35)*28/44","v":0},{"$f":"(BM35+BC35)","v":0},0,{"$f":"SUM(CJ35:CM35)","v":0},{"$f":"CJ35*17/14","v":0},{"$f":"(E35+(AF35*C35*J35*W35)-(CH35+CN35+CF35))","v":0}]
["CERDO","Cerdo 80-109 kg",{"$f":"E.Datos!E31","v":0},11.68,0,{"$f":"'F.Dist.'!D7","v":0.72003424657534254},0,{"$f":"'F.Dist.'!E7","v":0},{"$f":"'F.Dist.'!F7","v":0},{"$f":"'F.Dist.'!G7","v":1},0,0,{"$f":"L36*'F.EE.'!D6","v":0},0,0,{"$f":"(H36*G36)-(M36+O36)","v":0},0,0,{"$f":"R36*'F.EE.'!G6","v":0},0,0,{"$f":"T36+S36+N36+M36-(E36*H36+E36*I36)","v":0},{"$f":"'F.Dist.'!H7","v":0},{"$f":"'F.Dist.'!I7","v":1},0,0,0,0,0,{"$f":"AA36*'F.EE.'!J6","v":0},{"$f":"AB36*'F.EE.'!N6","v":0},{"$f":"'F.Dist.'!J7","v":0},0,0,0,0,0,{"$f":"'F.Dist.'!L7","v":0},{"$f":"'F.Dist.'!M7","v":0},{"$f":"'F.Dist.'!N7","v":0},{"$f":"'F.Dist.'!O7","v":0},{"$f":"'F.Dist.'!R7","v":0},{"$f":"'F.Dist.'!S7","v":1},{"$f":"'F.Dist.'!U7","v":0},{"$f":"'F.Dist.'!V7","v":0},{"$f":"'F.Dist.'!W7","v":0},{"$f":"'F.Dist.'!Y7","v":0},{"$f":"'F.Dist.'!Z7","v":0},{"$f":"'F.Dist.'!AA7","v":0},{"$f":"'F.Dist.'!AB7","v":0},0,0,{"$f":"AZ36*'F.EE.'!R6","v":0},{"$f":"(AZ36*'F.EE.'!AE6)","v":0},{"$f":"(AZ36*'F.EE.'!AF6)","v":0},{"$f":"(AZ36*'F.EE.'!AG6)","v":0},0,0,0,0,0,0,{"$f":"BJ36*'F.EE.'!U6","v":0},{"$f":"BJ36*'F.EE.'!AH6","v":0},{"$f":"BJ36*'F.EE.'!AI6","v":0},{"$f":"BJ36*'F.EE.'!AJ6","v":0},0,0,0,{"$f":"'F.Dist.'!AD7","v":0},{"$f":"'F.Dist.'!AE7","v":1},{"$f":"'F.Dist.'!AF7","v":0},{"$f":"'F.Dist.'!AG7","v":1},{"$f":"BE36*BR36+AG36*AN36+AI36*AR36+T36*AW36","v":0},0,{"$f":"BW36*'F.EE.'!X6","v":0},{"$f":"BV36-BX36","v":0},0,0,0,{"$f":"CB36*'F.EE.'!AA6","v":0},0,0,{"$f":"CD36+BY36+N36","v":0},0,0,0,0,0,0,0,0,0,0]
["CERDO","Cerdo > 110 kg",{"$f":"E.Datos!E33","v":0},12.06,0,{"$f":"'F.Dist.'!D8","v":0.70232172470978449},0,{"$f":"'F.Dist.'!E8","v":0},{"$f":"'F.Dist.'!F8","v":0},{"$f":"'F.Dist.'!G8","v":1},0,0,{"$f":"L37*'F.EE.'!D7","v":0},0,0,{"$f":"(H37*G37)-(M37+O37)","v":0},0,0,{"$f":"R37*'F.EE.'!G7","v":0},0,0,{"$f":"T37+S37+N37+M37-(E37*H37+E37*I37)","v":0},{"$f":"'F.Dist.'!H8","v":0},{"$f":"'F.Dist.'!I8","v":1},{"$f":"E37*J37*W37","v":0},0,0,0,{"$f":"(AA37+AB37)-G37*J37","v":0},{"$f":"AA37*'F.EE.'!J7","v":0},{"$f":"AB37*'F.EE.'!N7","v":0},{"$f":"'F.Dist.'!J8","v":0},0,0,0,0,0,{"$f":"'F.Dist.'!L8","v":0},{"$f":"'F.Dist.'!M8","v":0},{"$f":"'F.Dist.'!N8","v":0},{"$f":"'F.Dist.'!O8","v":0},{"$f":"'F.Dist.'!R8","v":0},{"$f":"'F.Dist.'!S8","v":1},{"$f":"'F.Dist.'!U8","v":0},{"$f":"'F.Dist.'!V8","v":0},{"$f":"'F.Dist.'!W8","v":0},{"$f":"'F.Dist.'!Y8","v":0},{"$f":"'F.Dist.'!Z8","v":0},{"$f":"'F.Dist.'!AA8","v":0},{"$f":"'F.Dist.'!AB8","v":0},0,0,{"$f":"AZ37*'F.EE.'!R7","v":0},{"$f":"(AZ37*'F.EE.'!AE7)","v":0},{"$f":"(AZ37*'F.EE.'!AF7)","v":0},{"$f":"(AZ37*'F.EE.'!AG7)","v":0},0,0,0,0,0,0,{"$f":"BJ37*'F.EE.'!U7","v":0},{"$f":"BJ37*'F.EE.'!AH7","v":0},{"$f":"BJ37*'F.EE.'!AI7","v":0},{"$f":"BJ37*'F.EE.'!AJ7","v":0},0,0,0,{"$f":"'F.Dist.'!AD8","v":0},{"$f":"'F.Dist.'!AE8","v":1},{"$f":"'F.Dist.'!AF8","v":0},{"$f":"'F.Dist.'!AG8","v":1},{"$f":"BE37*BR37+AG37*AN37+AI37*AR37+T37*AW37","v":0},0,{"$f":"BW37*'F.EE.'!X7","v":0},0,0,0,0,{"$f":"CB37*'F.EE.'!AA7","v":0},0,0,0,0,0,0,0,0,0,0,0,0,0]
["CERDO","Verracos jóvenes",{"$f":"E.Datos!E35","v":0},16.22,0,{"$f":"'F.Dist.'!D9","v":0.76633785450061653},0,{"$f":"'F.Dist.'!E9","v":0},{"$f":"'F.Dist.'!F9","v":0},{"$f":"'F.Dist.'!G9","v":1},0,0,{"$f":"L38*'F.EE.'!D8","v":0},0,0,0,0,0,{"$f":"R38*'F.EE.'!G8","v":0},0,0,0,{"$f":"'F.Dist.'!H9","v":0},{"$f":"'F.Dist.'!I9","v":1},{"$f":"E38*J38*W38","v":0},0,0,0,{"$f":"(AA38+AB38)-G38*J38","v":0},{"$f":"AA38*'F.EE.'!J8","v":0},{"$f":"AB38*'F.EE.'!N8","v":0},{"$f":"'F.Dist.'!J9","v":0},0,0,0,0,0,{"$f":"'F.Dist.'!L9","v":0},{"$f":"'F.Dist.'!M9","v":0},{"$f":"'F.Dist.'!N9","v":0},{"$f":"'F.Dist.'!O9","v":0},{"$f":"'F.Dist.'!R9","v":0},{"$f":"'F.Dist.'!S9","v":1},{"$f":"'F.Dist.'!U9","v":0},{"$f":"'F.Dist.'!V9","v":0},{"$f":"'F.Dist.'!W9","v":0},{"$f":"'F.Dist.'!Y9","v":0},{"$f":"'F.Dist.'!Z9","v":0},{"$f":"'F.Dist.'!AA9","v":0},{"$f":"'F.Dist.'!AB9","v":0},0,0,{"$f":"AZ38*'F.EE.'!R8","v":0},{"$f":"(AZ38*'F.EE.'!AE8)","v":0},{"$f":"(AZ38*'F.EE.'!AF8)","v":0},{"$f":"(AZ38*'F.EE.'!AG8)","v":0},0,0,0,0,0,0,{"$f":"BJ38*'F.EE.'!U8","v":0},{"$f":"BJ38*'F.EE.'!AH8","v":0},{"$f":"BJ38*'F.EE.'!AI8","v":0},{"$f":"BJ38*'F.EE.'!AJ8","v":0},0,0,0,{"$f":"'F.Dist.'!AD9","v":0},{"$f":"'F.Dist.'!AE9","v":1},{"$f":"'F.Dist.'!AF9","v":0},{"$f":"'F.Dist.'!AG9","v":1},0,0,{"$f":"BW38*'F.EE.'!X8","v":0},0,0,0,0,{"$f":"CB38*'F.EE.'!AA8","v":0},0,0,0,0,0,0,0,0,0,0,0,0,0]
["CERDO","Verracos adultos",{"$f":"E.Datos!E37","v":0},18.75,0,{"$f":"'F.Dist.'!D10","v":0.74879999999999991},0,{"$f":"'F.Dist.'!E10","v":0},{"$f":"'F.Dist.'!F10","v":0},{"$f":"'F.Dist.'!G10","v":1},0,0,{"$f":"L39*'F.EE.'!D9","v":0},0,0,0,0,0,{"$f":"R39*'F.EE.'!G9","v":0},0,0,0,{"$f":"'F.Dist.'!H10","v":0},{"$f":"'F.Dist.'!I10","v":1},0,0,0,0,0,{"$f":"AA39*'F.EE.'!J9","v":0},{"$f":"AB39*'F.EE.'!N9","v":0},{"$f":"'F.Dist.'!J10","v":0},0,0,0,0,0,{"$f":"'F.Dist.'!L10","v":0},{"$f":"'F.Dist.'!M10","v":0},{"$f":"'F.Dist.'!N10","v":0},{"$f":"'F.Dist.'!O10","v":0},{"$f":"'F.Dist.'!R10","v":0},{"$f":"'F.Dist.'!S10","v":1},{"$f":"'F.Dist.'!U10","v":0},{"$f":"'F.Dist.'!V10","v":0},{"$f":"'F.Dist.'!W10","v":0},{"$f":"'F.Dist.'!Y10","v":0},{"$f":"'F.Dist.'!Z10","v":0},{"$f":"'F.Dist.'!AA10","v":0},{"$f":"'F.Dist.'!AB10","v":0},0,0,{"$f":"AZ39*'F.EE.'!R9","v":0},{"$f":"(AZ39*'F.EE.'!AE9)","v":0},{"$f":"(AZ39*'F.EE.'!AF9)","v":0},{"$f":"(AZ39*'F.EE.'!AG9)","v":0},0,0,0,0,0,0,{"$f":"BJ39*'F.EE.'!U9","v":0},{"$f":"BJ39*'F.EE.'!AH9","v":0},{"$f":"BJ39*'F.EE.'!AI9","v":0},{"$f":"BJ39*'F.EE.'!AJ9","v":0},0,0,0,{"$f":"'F.Dist.'!AD10","v":0},{"$f":"'F.Dist.'!AE10","v":1},{"$f":"'F.Dist.'!AF10","v":0},{"$f":"'F.Dist.'!AG10","v":1},0,0,{"$f":"BW39*'F.EE.'!X9","v":0},0,0,0,0,{"$f":"CB39*'F.EE.'!AA9","v":0},0,0,0,0,0,0,0,0,0,0,0,0,0]
["CERDO","Reproductora no cubierta",{"$f":"E.Datos!E39","v":0},13.2,0,{"$f":"'F.Dist.'!D11","v":0.67803030303030298},0,{"$f":"'F.Dist.'!E11","v":0},{"$f":"'F.Dist.'!F11","v":0},{"$f":"'F.Dist.'!G11","v":1},0,0,{"$f":"L40*'F.EE.'!D10","v":0},0,0,0,0,0,{"$f":"R40*'F.EE.'!G10","v":0},0,0,0,{"$f":"'F.Dist.'!H11","v":0},{"$f":"'F.Dist.'!I11","v":1},0,0,0,0,0,{"$f":"AA40*'F.EE.'!J10","v":0},{"$f":"AB40*'F.EE.'!N10","v":0},{"$f":"'F.Dist.'!J11","v":0},0,0,0,0,0,{"$f":"'F.Dist.'!L11","v":0},{"$f":"'F.Dist.'!M11","v":0},{"$f":"'F.Dist.'!N11","v":0},{"$f":"'F.Dist.'!O11","v":0},{"$f":"'F.Dist.'!R11","v":0},{"$f":"'F.Dist.'!S11","v":1},{"$f":"'F.Dist.'!U11","v":0},{"$f":"'F.Dist.'!V11","v":0},{"$f":"'F.Dist.'!W11","v":0},{"$f":"'F.Dist.'!Y11","v":0},{"$f":"'F.Dist.'!Z11","v":0},{"$f":"'F.Dist.'!AA11","v":0},{"$f":"'F.Dist.'!AB11","v":0},0,0,{"$f":"AZ40*'F.EE.'!R10","v":0},{"$f":"(AZ40*'F.EE.'!AE10)","v":0},{"$f":"(AZ40*'F.EE.'!AF10)","v":0},{"$f":"(AZ40*'F.EE.'!AG10)","v":0},0,0,0,0,0,0,{"$f":"BJ40*'F.EE.'!U10","v":0},{"$f":"BJ40*'F.EE.'!AH10","v":0},{"$f":"BJ40*'F.EE.'!AI10","v":0},{"$f":"BJ40*'F.EE.'!AJ10","v":0},0,0,0,{"$f":"'F.Dist.'!AD11","v":0},{"$f":"'F.Dist.'!AE11","v":1},{"$f":"'F.Dist.'!AF11","v":0},{"$f":"'F.Dist.'!AG11","v":1},0,0,{"$f":"BW40*'F.EE.'!X10","v":0},0,0,0,0,{"$f":"CB40*'F.EE.'!AA10","v":0},0,0,0,0,0,0,0,0,0,0,0,0,0]
["CERDO","Reproductora en 1ª gestación",{"$f":"E.Datos!E41","v":0},14,0,{"$f":"'F.Dist.'!D12","v":0.71571428571428564},0,{"$f":"'F.Dist.'!E12","v":0},{"$f":"'F.Dist.'!F12","v":0},{"$f":"'F.Dist.'!G12","v":1},0,0,{"$f":"L41*'F.EE.'!D11","v":0},0,0,0,0,0,{"$f":"R41*'F.EE.'!G11","v":0},0,0,0,{"$f":"'F.Dist.'!H12","v":0},{"$f":"'F.Dist.'!I12","v":1},0,0,0,0,0,{"$f":"AA41*'F.EE.'!J11","v":0},{"$f":"AB41*'F.EE.'!N11","v":0},{"$f":"'F.Dist.'!J12","v":0},0,0,0,0,0,{"$f":"'F.Dist.'!L12","v":0},{"$f":"'F.Dist.'!M12","v":0},{"$f":"'F.Dist.'!N12","v":0},{"$f":"'F.Dist.'!O12","v":0},{"$f":"'F.Dist.'!R12","v":0},{"$f":"'F.Dist.'!S12","v":1},{"$f":"'F.Dist.'!U12","v":0},{"$f":"'F.Dist.'!V12","v":0},{"$f":"'F.Dist.'!W12","v":0},{"$f":"'F.Dist.'!Y12","v":0},{"$f":"'F.Dist.'!Z12","v":0},{"$f":"'F.Dist.'!AA12","v":0},{"$f":"'F.Dist.'!AB12","v":0},0,0,{"$f":"AZ41*'F.EE.'!R11","v":0},{"$f":"(AZ41*'F.EE.'!AE11)","v":0},{"$f":"(AZ41*'F.EE.'!AF11)","v":0},{"$f":"(AZ41*'F.EE.'!AG11)","v":0},0,0,0,0,0,0,{"$f":"BJ41*'F.EE.'!U11","v":0},{"$f":"BJ41*'F.EE.'!AH11","v":0},{"$f":"BJ41*'F.EE.'!AI11","v":0},{"$f":"BJ41*'F.EE.'!AJ11","v":0},0,0,0,{"$f":"'F.Dist.'!AD12","v":0},{"$f":"'F.Dist.'!AE12","v":1},{"$f":"'F.Dist.'!AF12","v":0},{"$f":"'F.Dist.'!AG12","v":1},0,0,{"$f":"BW41*'F.EE.'!X11","v":0},0,0,0,0,{"$f":"CB41*'F.EE.'!AA11","v":0},0,0,0,0,0,0,0,0,0,0,0,0,0]
["CERDO","Reproductora en gestación",{"$f":"E.Datos!E43","v":0},15.7,0,{"$f":"'F.Dist.'!D13","v":0.73439490445859867},0,{"$f":"'F.Dist.'!E13","v":0},{"$f":"'F.Dist.'!F13","v":0},{"$f":"'F.Dist.'!G13","v":1},0,0,{"$f":"L42*'F.EE.'!D12","v":0},0,0,0,0,0,{"$f":"R42*'F.EE.'!G12","v":0},0,0,0,{"$f":"'F.Dist.'!H13","v":0},{"$f":"'F.Dist.'!I13","v":1},0,0,0,0,0,{"$f":"AA42*'F.EE.'!J12","v":0},{"$f":"AB42*'F.EE.'!N12","v":0},{"$f":"'F.Dist.'!J13","v":0},0,0,0,0,0,{"$f":"'F.Dist.'!L13","v":0},{"$f":"'F.Dist.'!M13","v":0},{"$f":"'F.Dist.'!N13","v":0},{"$f":"'F.Dist.'!O13","v":0},{"$f":"'F.Dist.'!R13","v":0},{"$f":"'F.Dist.'!S13","v":1},{"$f":"'F.Dist.'!U13","v":0},{"$f":"'F.Dist.'!V13","v":0},{"$f":"'F.Dist.'!W13","v":0},{"$f":"'F.Dist.'!Y13","v":0},{"$f":"'F.Dist.'!Z13","v":0},{"$f":"'F.Dist.'!AA13","v":0},{"$f":"'F.Dist.'!AB13","v":0},0,0,{"$f":"AZ42*'F.EE.'!R12","v":0},{"$f":"(AZ42*'F.EE.'!AE12)","v":0},{"$f":"(AZ42*'F.EE.'!AF12)","v":0},{"$f":"(AZ42*'F.EE.'!AG12)","v":0},0,0,0,0,0,0,{"$f":"BJ42*'F.EE.'!U12","v":0},{"$f":"BJ42*'F.EE.'!AH12","v":0},{"$f":"BJ42*'F.EE.'!AI12","v":0},{"$f":"BJ42*'F.EE.'!AJ12","v":0},0,0,0,{"$f":"'F.Dist.'!AD13","v":0},{"$f":"'F.Dist.'!AE13","v":1},{"$f":"'F.Dist.'!AF13","v":0},{"$f":"'F.Dist.'!AG13","v":1},0,0,{"$f":"BW42*'F.EE.'!X12","v":0},0,0,0,0,{"$f":"CB42*'F.EE.'!AA12","v":0},0,0,0,0,0,0,0,0,0,0,0,0,0]
["CERDO","Reproductoras criando por 1ª vez",{"$f":"E.Datos!E45","v":0},37.15,0,{"$f":"'F.Dist.'!D14","v":0.7235531628532974},0,{"$f":"'F.Dist.'!E14","v":0},{"$f":"'F.Dist.'!F14","v":0},{"$f":"'F.Dist.'!G14","v":1},0,0,{"$f":"L43*'F.EE.'!D13","v":0},0,0,0,0,0,{"$f":"R43*'F.EE.'!G13","v":0},0,0,0,{"$f":"'F.Dist.'!H14","v":0},{"$f":"'F.Dist.'!I14","v":1},0,0,0,0,0,{"$f":"AA43*'F.EE.'!J13","v":0},{"$f":"AB43*'F.EE.'!N13","v":0},{"$f":"'F.Dist.'!J14","v":0},0,0,0,0,0,{"$f":"'F.Dist.'!L14","v":0},{"$f":"'F.Dist.'!M14","v":0},{"$f":"'F.Dist.'!N14","v":0},{"$f":"'F.Dist.'!O14","v":0},{"$f":"'F.Dist.'!R14","v":0},{"$f":"'F.Dist.'!S14","v":1},{"$f":"'F.Dist.'!U14","v":0},{"$f":"'F.Dist.'!V14","v":0},{"$f":"'F.Dist.'!W14","v":0},{"$f":"'F.Dist.'!Y14","v":0},{"$f":"'F.Dist.'!Z14","v":0},{"$f":"'F.Dist.'!AA14","v":0},{"$f":"'F.Dist.'!AB14","v":0},0,0,{"$f":"AZ43*'F.EE.'!R13","v":0},{"$f":"(AZ43*'F.EE.'!AE13)","v":0},{"$f":"(AZ43*'F.EE.'!AF13)","v":0},{"$f":"(AZ43*'F.EE.'!AG13)","v":0},0,0,0,0,0,0,{"$f":"BJ43*'F.EE.'!U13","v":0},{"$f":"BJ43*'F.EE.'!AH13","v":0},{"$f":"BJ43*'F.EE.'!AI13","v":0},{"$f":"BJ43*'F.EE.'!AJ13","v":0},0,0,0,{"$f":"'F.Dist.'!AD14","v":0},{"$f":"'F.Dist.'!AE14","v":1},{"$f":"'F.Dist.'!AF14","v":0},{"$f":"'F.Dist.'!AG14","v":1},0,0,{"$f":"BW43*'F.EE.'!X13","v":0},0,0,0,0,{"$f":"CB43*'F.EE.'!AA13","v":0},0,0,0,0,0,0,0,0,0,0,0,0,0]
["CERDO","Reproductoras criando",{"$f":"E.Datos!E47","v":0},40.06,0,{"$f":"'F.Dist.'!D15","v":0.73065401897154258},0,{"$f":"'F.Dist.'!E15","v":0},{"$f":"'F.Dist.'!F15","v":0},{"$f":"'F.Dist.'!G15","v":1},0,0,{"$f":"L44*'F.EE.'!D14","v":0},0,0,0,0,0,{"$f":"R44*'F.EE.'!G14","v":0},0,0,0,{"$f":"'F.Dist.'!H15","v":0},{"$f":"'F.Dist.'!I15","v":1},0,0,0,0,0,{"$f":"AA44*'F.EE.'!J14","v":0},{"$f":"AB44*'F.EE.'!N14","v":0},{"$f":"'F.Dist.'!J15","v":0},0,0,0,0,0,{"$f":"'F.Dist.'!L15","v":0},{"$f":"'F.Dist.'!M15","v":0},{"$f":"'F.Dist.'!N15","v":0},{"$f":"'F.Dist.'!O15","v":0},{"$f":"'F.Dist.'!R15","v":0},{"$f":"'F.Dist.'!S15","v":1},{"$f":"'F.Dist.'!U15","v":0},{"$f":"'F.Dist.'!V15","v":0},{"$f":"'F.Dist.'!W15","v":0},{"$f":"'F.Dist.'!Y15","v":0},{"$f":"'F.Dist.'!Z15","v":0},{"$f":"'F.Dist.'!AA15","v":0},{"$f":"'F.Dist.'!AB15","v":0},0,0,{"$f":"AZ44*'F.EE.'!R14","v":0},{"$f":"(AZ44*'F.EE.'!AE14)","v":0},{"$f":"(AZ44*'F.EE.'!AF14)","v":0},{"$f":"(AZ44*'F.EE.'!AG14)","v":0},0,0,0,0,0,0,{"$f":"BJ44*'F.EE.'!U14","v":0},{"$f":"BJ44*'F.EE.'!AH14","v":0},{"$f":"BJ44*'F.EE.'!AI14","v":0},{"$f":"BJ44*'F.EE.'!AJ14","v":0},0,0,0,{"$f":"'F.Dist.'!AD15","v":0},{"$f":"'F.Dist.'!AE15","v":1},{"$f":"'F.Dist.'!AF15","v":0},{"$f":"'F.Dist.'!AG15","v":1},0,0,{"$f":"BW44*'F.EE.'!X14","v":0},0,0,0,0,{"$f":"CB44*'F.EE.'!AA14","v":0},0,0,0,0,0,0,0,0,0,0,0,0,0]
["CERDO","Reproductoras en reposo 1ª vez",{"$f":"E.Datos!E49","v":0},14.9,0,{"$f":"'F.Dist.'!D16","v":0.823489932885906},0,{"$f":"'F.Dist.'!E16","v":0},{"$f":"'F.Dist.'!F16","v":0},{"$f":"'F.Dist.'!G16","v":1},0,0,{"$f":"L45*'F.EE.'!D15","v":0},0,0,0,0,0,{"$f":"R45*'F.EE.'!G15","v":0},0,0,0,{"$f":"'F.Dist.'!H16","v":0},{"$f":"'F.Dist.'!I16","v":1},0,0,0,0,0,{"$f":"AA45*'F.EE.'!J15","v":0},{"$f":"AB45*'F.EE.'!N15","v":0},{"$f":"'F.Dist.'!J16","v":0},0,0,0,0,0,{"$f":"'F.Dist.'!L16","v":0},{"$f":"'F.Dist.'!M16","v":0},{"$f":"'F.Dist.'!N16","v":0},{"$f":"'F.Dist.'!O16","v":0},{"$f":"'F.Dist.'!R16","v":0},{"$f":"'F.Dist.'!S16","v":1},{"$f":"'F.Dist.'!U16","v":0},{"$f":"'F.Dist.'!V16","v":0},{"$f":"'F.Dist.'!W16","v":0},{"$f":"'F.Dist.'!Y16","v":0},{"$f":"'F.Dist.'!Z16","v":0},{"$f":"'F.Dist.'!AA16","v":0},{"$f":"'F.Dist.'!AB16","v":0},0,0,{"$f":"AZ45*'F.EE.'!R15","v":0},{"$f":"(AZ45*'F.EE.'!AE15)","v":0},{"$f":"(AZ45*'F.EE.'!AF15)","v":0},{"$f":"(AZ45*'F.EE.'!AG15)","v":0},0,0,0,0,0,0,{"$f":"BJ45*'F.EE.'!U15","v":0},{"$f":"BJ45*'F.EE.'!AH15","v":0},{"$f":"BJ45*'F.EE.'!AI15","v":0},{"$f":"BJ45*'F.EE.'!AJ15","v":0},0,0,0,{"$f":"'F.Dist.'!AD16","v":0},{"$f":"'F.Dist.'!AE16","v":1},{"$f":"'F.Dist.'!AF16","v":0},{"$f":"'F.Dist.'!AG16","v":1},0,0,{"$f":"BW45*'F.EE.'!X15","v":0},0,0,0,0,{"$f":"CB45*'F.EE.'!AA15","v":0},0,0,0,0,0,0,0,0,0,0,0,0,0]
["CERDO","Reproductoras en reposo",{"$f":"E.Datos!E51","v":0},14.97,0,{"$f":"'F.Dist.'!D17","v":0.76486305945223776},0,{"$f":"'F.Dist.'!E17","v":0},{"$f":"'F.Dist.'!F17","v":0},{"$f":"'F.Dist.'!G17","v":1},0,0,{"$f":"L46*'F.EE.'!D16","v":0},0,0,0,0,0,{"$f":"R46*'F.EE.'!G16","v":0},0,0,0,{"$f":"'F.Dist.'!H17","v":0},{"$f":"'F.Dist.'!I17","v":1},0,0,0,0,0,{"$f":"AA46*'F.EE.'!J16","v":0},{"$f":"AB46*'F.EE.'!N16","v":0},{"$f":"'F.Dist.'!J17","v":0},0,0,0,0,0,{"$f":"'F.Dist.'!L17","v":0},{"$f":"'F.Dist.'!M17","v":0},{"$f":"'F.Dist.'!N17","v":0},{"$f":"'F.Dist.'!O17","v":0},{"$f":"'F.Dist.'!R17","v":0},{"$f":"'F.Dist.'!S17","v":1},{"$f":"'F.Dist.'!U17","v":0},{"$f":"'F.Dist.'!V17","v":0},{"$f":"'F.Dist.'!W17","v":0},{"$f":"'F.Dist.'!Y17","v":0},{"$f":"'F.Dist.'!Z17","v":0},{"$f":"'F.Dist.'!AA17","v":0},{"$f":"'F.Dist.'!AB17","v":0},0,0,{"$f":"AZ46*'F.EE.'!R16","v":0},{"$f":"(AZ46*'F.EE.'!AE16)","v":0},{"$f":"(AZ46*'F.EE.'!AF16)","v":0},{"$f":"(AZ46*'F.EE.'!AG16)","v":0},0,0,0,0,0,0,{"$f":"BJ46*'F.EE.'!U16","v":0},{"$f":"BJ46*'F.EE.'!AH16","v":0},{"$f":"BJ46*'F.EE.'!AI16","v":0},{"$f":"BJ46*'F.EE.'!AJ16","v":0},0,0,0,{"$f":"'F.Dist.'!AD17","v":0},{"$f":"'F.Dist.'!AE17","v":1},{"$f":"'F.Dist.'!AF17","v":0},{"$f":"'F.Dist.'!AG17","v":1},0,0,{"$f":"BW46*'F.EE.'!X16","v":0},0,0,0,0,{"$f":"CB46*'F.EE.'!AA16","v":0},0,0,0,0,0,0,0,0,0,0,0,0,0]
["TOTALS",null,{"$f":"SUM(C33:C46)","v":0},null,{"$f":"SUM(E33:E46)","v":0},null,{"$f":"SUM(G33:G46)","v":0},null,null,null,{"$f":"SUM(K33:K46)","v":0},{"$f":"SUM(L33:L46)","v":0},{"$f":"SUM(M33:M46)","v":0},{"$f":"SUM(N33:N46)","v":0},{"$f":"SUM(O33:O46)","v":0},null,{"$f":"SUM(Q33:Q46)","v":0},{"$f":"SUM(R33:R46)","v":0},{"$f":"SUM(S33:S46)","v":0},{"$f":"SUM(T33:T46)","v":0},{"$f":"SUM(U33:U46)","v":0},null,null,null,{"$f":"SUM(Y33:Y46)","v":0},{"$f":"SUM(Z33:Z46)","v":0},{"$f":"SUM(AA33:AA46)","v":0},{"$f":"SUM(AB33:AB46)","v":0},null,{"$f":"SUM(AD33:AD46)","v":0},{"$f":"SUM(AE33:AE46)","v":0},null,{"$f":"SUM(AG33:AG46)","v":0},{"$f":"SUM(AH33:AH46)","v":0},{"$f":"SUM(AI33:AI46)","v":0},0,null,null,null,null,null,null,null,null,null,null,null,null,null,null,{"$f":"SUM(AY33:AY46)","v":0},{"$f":"SUM(AZ33:AZ46)","v":0},{"$f":"SUM(BA33:BA46)","v":0},{"$f":"SUM(BB33:BB46)","v":0},0,0,{"$f":"SUM(BE33:BE46)","v":0},{"$f":"SUM(BF33:BF46)","v":0},null,{"$f":"SUM(BH33:BH46)","v":0},{"$f":"SUM(BI33:BI46)","v":0},0,{"$f":"SUM(BK33:BK46)","v":0},{"$f":"SUM(BL33:BL46)","v":0},0,0,{"$f":"SUM(BO33:BO46)","v":0},{"$f":"SUM(BP33:BP46)","v":0},null,null,null,null,null,{"$f":"SUM(BV33:BV46)","v":0},0,0,0,0,0,0,0,0,0,0,0,{"$f":"SUM(CH33:CH46)","v":0},{"$f":"SUM(CI33:CI46)","v":0},{"$f":"SUM(CJ33:CJ46)","v":0},{"$f":"SUM(CK33:CK46)","v":0},{"$f":"SUM(CL33:CL46)","v":0},{"$f":"SUM(CM33:CM46)","v":0},0,{"$f":"CJ47*17/14","v":0}]

{"sheet":"F.EE.","index":8,"n_rows":36,"n_cols":36,"rows_kept":36,"cut":false,"hidden":true,"merged":[[0,30,0,32],[0,33,0,35],[0,6,0,8],[0,9,0,12],[0,13,0,16],[0,17,0,19],[0,20,0,22],[0,2,1,2],[0,1,1,1],[0,0,1,0],[0,23,0,25],[0,26,0,28],[0,3,0,5]]}
["SPECIE","CAT_AA","CAT_EMEP","GRAZING",null,null,"YARD_solid+slurry",null,null,"BUILD-solid",null,null,null,"BUILD_slurry",null,null,null,"STORAGE_solid",null,null,"STORAGE_slurry",null,null,"APPLIED_ solid",null,null,"APPLIED_slurry",null,null,null,"STORAGE_solid",null,null,"STORAGE_slurry"]
[null,null,null,"FE_GRAZING","FR_GRAZING","Fec_GRAZING","FE_YARD_solid+slurry","FR_YARD_solid+slurry","Fec_YARD_solid+slury","FE_BUILD_solid","FR1_BUILD_solid","FR2_BUILD_solid","FEc_BUILD_solid","FE_BUILD_slurry","FR1_BUILD_solid","FR2_BUILD_solid","FEc_BUILD_slurry","FE_STORAGE_solid","FR_STORAGE_solid","FEc_STORAGE_solid","FE_STORAGE_slurry","FR_STORAGE_slurry","FEc_STORAGE_slurry","FE_APPLIED_solid","FR_APPLIED_solid","FEc_APPLIED_solid","FE_APPLIED_slurry","FR_APPLIED_slurry","FEc_APPLIED_slurry",null,"kg N2O","kg N2","kg NO","N2O","N2","NO"]
["CERDO","Lechones destetados ","< 8 kg",0.25,1,{"$f":"D3*E3","v":0.25},null,1,{"$f":"G3*H3","v":0},0.25,1,1,{"$f":"J3*K3*L3","v":0.25},0.22,{"$f":"VLOOKUP(E.Datos!J25,'F.EE.'!$K$22:$P$29,6,FALSE)","v":1},{"$f":"VLOOKUP(E.Datos!L25,'F.EE.'!$K$32:$P$36,6,FALSE)","v":1},{"$f":"N3*O3*P3","v":0.22},0.45,1,{"$f":"R3*S3","v":0.45},0.14000000000000001,{"$f":"VLOOKUP(E.Datos!R25,'F.EE.'!$S$22:$V$33,4,FALSE)","v":1},{"$f":"U3*V3","v":0.14000000000000001},0.81,{"$f":"VLOOKUP(E.Datos!W25,'F.EE.'!$Y$22:$AB$29,4,FALSE)","v":1},{"$f":"X3*Y3","v":0.81},0.28999999999999998,{"$f":"VLOOKUP(E.Datos!W25,'F.EE.'!$Y$22:$AB$29,4,FALSE)","v":1},{"$f":"AA3*AB3","v":0.28999999999999998},null,0.01,0.3,0.01,0,3.0000000000000001E-3,1E-4]
["CERDO","Cerdo 20-49 kg","> 8 kg",0.25,1,{"$f":"D4*E4","v":0.25},0.53,1,{"$f":"G4*H4","v":0.53},0.27,1,1,{"$f":"J4*K4*L4","v":0.27},0.28000000000000003,{"$f":"VLOOKUP(E.Datos!J27,'F.EE.'!$K$22:$P$29,6,FALSE)","v":1},{"$f":"VLOOKUP(E.Datos!L27,'F.EE.'!$K$32:$P$36,6,FALSE)","v":1},{"$f":"N4*O4*P4","v":0.28000000000000003},0.45,1,{"$f":"R4*S4","v":0.45},0.14000000000000001,{"$f":"VLOOKUP(E.Datos!R27,'F.EE.'!$S$22:$V$33,4,FALSE)","v":1},{"$f":"U4*V4","v":0.14000000000000001},0.81,{"$f":"VLOOKUP(E.Datos!W27,'F.EE.'!$Y$22:$AB$29,4,FALSE)","v":1},{"$f":"X4*Y4","v":0.81},0.4,{"$f":"VLOOKUP(E.Datos!W27,'F.EE.'!$Y$22:$AB$29,4,FALSE)","v":1},{"$f":"AA4*AB4","v":0.4},null,0.01,0.3,0.01,0,3.0000000000000001E-3,1E-4]
["CERDO","Cerdo 50-79 kg","> 8 kg",0.25,1,0.25,0.53,1,0.53,0.27,1,1,0.27,0.28000000000000003,{"$f":"VLOOKUP(E.Datos!J29,'F.EE.'!$K$22:$P$29,6,FALSE)","v":1},{"$f":"VLOOKUP(E.Datos!L29,'F.EE.'!$K$32:$P$36,6,FALSE)","v":1},0.28000000000000003,0.45,1,0.45,0.14000000000000001,{"$f":"VLOOKUP(E.Datos!R29,'F.EE.'!$S$22:$V$33,4,FALSE)","v":1},0.14000000000000001,0.81,{"$f":"VLOOKUP(E.Datos!W29,'F.EE.'!$Y$22:$AB$29,4,FALSE)","v":1},0.81,0.4,{"$f":"VLOOKUP(E.Datos!W29,'F.EE.'!$Y$22:$AB$29,4,FALSE)","v":1},{"$f":"AA5*AB5","v":0.4},null,0.01,0.3,0.01,0,3.0000000000000001E-3,1E-4]
["CERDO","Cerdo 80-109 kg","> 8 kg",0.25,1,0.25,0.53,1,0.53,0.27,1,1,0.27,0.28000000000000003,{"$f":"VLOOKUP(E.Datos!J31,'F.EE.'!$K$22:$P$29,6,FALSE)","v":1},{"$f":"VLOOKUP(E.Datos!L31,'F.EE.'!$K$32:$P$36,6,FALSE)","v":1},0.28000000000000003,0.45,1,0.45,0.14000000000000001,{"$f":"VLOOKUP(E.Datos!R31,'F.EE.'!$S$22:$V$33,4,FALSE)","v":1},0.14000000000000001,0.81,{"$f":"VLOOKUP(E.Datos!W31,'F.EE.'!$Y$22:$AB$29,4,FALSE)","v":1},0.81,0.4,{"$f":"VLOOKUP(E.Datos!W31,'F.EE.'!$Y$22:$AB$29,4,FALSE)","v":1},0.4,null,0.01,0.3,0.01,0,3.0000000000000001E-3,1E-4]
["CERDO","Cerdo > 110 kg","> 8 kg",0.25,1,0.25,0.53,1,0.53,0.27,1,1,0.27,0.28000000000000003,{"$f":"VLOOKUP(E.Datos!J33,'F.EE.'!$K$22:$P$29,6,FALSE)","v":1},{"$f":"VLOOKUP(E.Datos!L33,'F.EE.'!$K$32:$P$36,6,FALSE)","v":1},0.28000000000000003,0.45,1,{"$f":"R7*S6","v":0.45},0.14000000000000001,{"$f":"VLOOKUP(E.Datos!R33,'F.EE.'!$S$22:$V$33,4,FALSE)","v":1},0.14000000000000001,0.81,{"$f":"VLOOKUP(E.Datos!W33,'F.EE.'!$Y$22:$AB$29,4,FALSE)","v":1},0.81,0.4,{"$f":"VLOOKUP(E.Datos!W33,'F.EE.'!$Y$22:$AB$29,4,FALSE)","v":1},0.4,null,0.01,0.3,0.01,0,3.0000000000000001E-3,1E-4]
["CERDO","Verracos jóvenes","< 8 kg",0.25,1,0.25,null,1,0,0.25,1,1,0.25,0.22,{"$f":"VLOOKUP(E.Datos!J35,'F.EE.'!$K$22:$P$29,6,FALSE)","v":1},{"$f":"VLOOKUP(E.Datos!L35,'F.EE.'!$K$32:$P$36,6,FALSE)","v":1},0.22,0.45,1,{"$f":"R8*S7","v":0.45},0.14000000000000001,{"$f":"VLOOKUP(E.Datos!R35,'F.EE.'!$S$22:$V$33,4,FALSE)","v":1},0.14000000000000001,0.81,{"$f":"VLOOKUP(E.Datos!W35,'F.EE.'!$Y$22:$AB$29,4,FALSE)","v":1},0.81,0.28999999999999998,{"$f":"VLOOKUP(E.Datos!W35,'F.EE.'!$Y$22:$AB$29,4,FALSE)","v":1},0.28999999999999998,null,0.01,0.3,0.01,0,3.0000000000000001E-3,1E-4]
["CERDO","Verracos adultos","> 8 kg",0.25,1,0.25,0.53,1,0.53,0.27,1,1,0.27,0.28000000000000003,{"$f":"VLOOKUP(E.Datos!J37,'F.EE.'!$K$22:$P$29,6,FALSE)","v":1},{"$f":"VLOOKUP(E.Datos!L37,'F.EE.'!$K$32:$P$36,6,FALSE)","v":1},0.28000000000000003,0.45,1,{"$f":"R9*S8","v":0.45},0.14000000000000001,{"$f":"VLOOKUP(E.Datos!R37,'F.EE.'!$S$22:$V$33,4,FALSE)","v":1},0.14000000000000001,0.81,{"$f":"VLOOKUP(E.Datos!W37,'F.EE.'!$Y$22:$AB$29,4,FALSE)","v":1},0.81,0.4,{"$f":"VLOOKUP(E.Datos!W37,'F.EE.'!$Y$22:$AB$29,4,FALSE)","v":1},0.4,null,0.01,0.3,0.01,0,3.0000000000000001E-3,1E-4]
["CERDO","Reproductora no cubierta","< 8 kg",0.25,1,0.25,null,1,0,0.25,1,1,0.25,0.22,{"$f":"VLOOKUP(E.Datos!J39,'F.EE.'!$K$22:$P$29,6,FALSE)","v":1},{"$f":"VLOOKUP(E.Datos!L39,'F.EE.'!$K$32:$P$36,6,FALSE)","v":1},0.22,0.45,1,{"$f":"R10*S9","v":0.45},0.14000000000000001,{"$f":"VLOOKUP(E.Datos!R39,'F.EE.'!$S$22:$V$33,4,FALSE)","v":1},0.14000000000000001,0.81,{"$f":"VLOOKUP(E.Datos!W39,'F.EE.'!$Y$22:$AB$29,4,FALSE)","v":1},0.81,0.28999999999999998,{"$f":"VLOOKUP(E.Datos!W39,'F.EE.'!$Y$22:$AB$29,4,FALSE)","v":1},0.28999999999999998,null,0.01,0.3,0.01,0,3.0000000000000001E-3,1E-4]
["CERDO","Reproductora en 1ª gestación","> 8 kg",0.25,1,0.25,0.53,1,0.53,0.27,1,1,0.27,0.28000000000000003,{"$f":"VLOOKUP(E.Datos!J41,'F.EE.'!$K$22:$P$29,6,FALSE)","v":1},{"$f":"VLOOKUP(E.Datos!L41,'F.EE.'!$K$32:$P$36,6,FALSE)","v":1},0.28000000000000003,0.45,1,{"$f":"R11*S10","v":0.45},0.14000000000000001,{"$f":"VLOOKUP(E.Datos!R41,'F.EE.'!$S$22:$V$33,4,FALSE)","v":1},0.14000000000000001,0.81,{"$f":"VLOOKUP(E.Datos!W41,'F.EE.'!$Y$22:$AB$29,4,FALSE)","v":1},0.81,0.4,{"$f":"VLOOKUP(E.Datos!W41,'F.EE.'!$Y$22:$AB$29,4,FALSE)","v":1},0.4,null,0.01,0.3,0.01,0,3.0000000000000001E-3,1E-4]
["CERDO","Reproductora en gestación","> 8 kg",0.25,1,0.25,0.53,1,0.53,0.27,1,1,{"$f":"J12*K12*L12","v":0.27},0.28000000000000003,{"$f":"VLOOKUP(E.Datos!J43,'F.EE.'!$K$22:$P$29,6,FALSE)","v":1},{"$f":"VLOOKUP(E.Datos!L43,'F.EE.'!$K$32:$P$36,6,FALSE)","v":1},0.28000000000000003,0.45,1,0.45,0.14000000000000001,{"$f":"VLOOKUP(E.Datos!R43,'F.EE.'!$S$22:$V$33,4,FALSE)","v":1},0.14000000000000001,0.81,{"$f":"VLOOKUP(E.Datos!W43,'F.EE.'!$Y$22:$AB$29,4,FALSE)","v":1},0.81,0.4,{"$f":"VLOOKUP(E.Datos!W43,'F.EE.'!$Y$22:$AB$29,4,FALSE)","v":1},0.4,null,0.01,0.3,0.01,0,3.0000000000000001E-3,1E-4]
["CERDO","Reproductoras criando por 1ª vez","> 8 kg",0.25,1,0.25,0.53,1,0.53,0.27,1,1,0.27,0.28000000000000003,{"$f":"VLOOKUP(E.Datos!J45,'F.EE.'!$K$22:$P$29,6,FALSE)","v":1},{"$f":"VLOOKUP(E.Datos!L45,'F.EE.'!$K$32:$P$36,6,FALSE)","v":1},0.28000000000000003,0.45,1,0.45,0.14000000000000001,{"$f":"VLOOKUP(E.Datos!R45,'F.EE.'!$S$22:$V$33,4,FALSE)","v":1},0.14000000000000001,0.81,{"$f":"VLOOKUP(E.Datos!W45,'F.EE.'!$Y$22:$AB$29,4,FALSE)","v":1},0.81,0.4,{"$f":"VLOOKUP(E.Datos!W45,'F.EE.'!$Y$22:$AB$29,4,FALSE)","v":1},0.4,null,0.01,0.3,0.01,0,3.0000000000000001E-3,1E-4]
["CERDO","Reproductoras criando","> 8 kg",0.25,1,0.25,0.53,1,0.53,0.27,1,1,0.27,0.28000000000000003,{"$f":"VLOOKUP(E.Datos!J47,'F.EE.'!$K$22:$P$29,6,FALSE)","v":1},{"$f":"VLOOKUP(E.Datos!L47,'F.EE.'!$K$32:$P$36,6,FALSE)","v":1},0.28000000000000003,0.45,1,0.45,0.14000000000000001,{"$f":"VLOOKUP(E.Datos!R47,'F.EE.'!$S$22:$V$33,4,FALSE)","v":1},0.14000000000000001,0.81,{"$f":"VLOOKUP(E.Datos!W47,'F.EE.'!$Y$22:$AB$29,4,FALSE)","v":1},0.81,0.4,{"$f":"VLOOKUP(E.Datos!W47,'F.EE.'!$Y$22:$AB$29,4,FALSE)","v":1},0.4,null,0.01,0.3,0.01,0,3.0000000000000001E-3,1E-4]
["CERDO","Reproductoras en reposo 1ª vez","> 8 kg",0.25,1,0.25,0.53,1,0.53,0.27,1,1,0.27,0.28000000000000003,{"$f":"VLOOKUP(E.Datos!J49,'F.EE.'!$K$22:$P$29,6,FALSE)","v":1},{"$f":"VLOOKUP(E.Datos!L49,'F.EE.'!$K$32:$P$36,6,FALSE)","v":1},0.28000000000000003,0.45,1,0.45,0.14000000000000001,{"$f":"VLOOKUP(E.Datos!R49,'F.EE.'!$S$22:$V$33,4,FALSE)","v":1},0.14000000000000001,0.81,{"$f":"VLOOKUP(E.Datos!W49,'F.EE.'!$Y$22:$AB$29,4,FALSE)","v":1},0.81,0.4,{"$f":"VLOOKUP(E.Datos!W49,'F.EE.'!$Y$22:$AB$29,4,FALSE)","v":1},0.4,null,0.01,0.3,0.01,0,3.0000000000000001E-3,1E-4]
["CERDO","Reproductoras en reposo","> 8 kg",0.25,1,0.25,0.53,1,0.53,0.27,1,1,0.27,0.28000000000000003,{"$f":"VLOOKUP(E.Datos!J51,'F.EE.'!$K$22:$P$29,6,FALSE)","v":1},{"$f":"VLOOKUP(E.Datos!L51,'F.EE.'!$K$32:$P$36,6,FALSE)","v":1},0.28000000000000003,0.45,1,0.45,0.14000000000000001,{"$f":"VLOOKUP(E.Datos!R51,'F.EE.'!$S$22:$V$33,4,FALSE)","v":1},0.14000000000000001,0.81,{"$f":"VLOOKUP(E.Datos!W51,'F.EE.'!$Y$22:$AB$29,4,FALSE)","v":1},0.81,0.4,{"$f":"VLOOKUP(E.Datos!W51,'F.EE.'!$Y$22:$AB$29,4,FALSE)","v":1},0.4,null,0.01,0.3,0.01,0,3.0000000000000001E-3,1E-4]
[]
[]
[null,null,null,null,null,null,null,null,null,"NH3 REDUCTIONS AND EMISSION FACTORS ACCORDING TO MANAGEMENT TECHNIQUES",null,null,null,null,null,"BUILD",null,"NH3 REDUCTIONS AND EMISSION FACTORS ACCORDING TO MANAGEMENT TECHNIQUES",null,null,null,"STORE",null,"NH3 REDUCTIONS AND EMISSION FACTORS ACCORDING TO MANAGEMENT TECHNIQUES",null,null,null,"APPLIED"]
[]
[null,null,null,null,null,null,null,null,null,"FASE 1A. ALOJAMIENTO DE ANIMALES",null,null,null,null,"Coef. Reducción","F.R.",null,"FASE 2. ALMACENAMIENTO DE PURINES",null,null,"Coef. Reducción","F.R.",null,"FASE 3. APLICACIÓN DE PURINES A CAMPO",null,null,"Coef. Reducción","F.R."]
[null,null,null,null,null,null,null,null,null,0,"Emparrillado total",null,null,null,0,{"$f":"1-O22","v":1},null,0,"Sin almacenamiento",null,0,{"$f":"1-U22","v":1},null,0,"Distribución en abanico",null,0,{"$f":"1-AA22","v":1}]
[null,null,null,null,null,null,null,null,null,"A","Emparrillado parcial y fosa reducida",null,null,null,0.2,{"$f":"1-O23","v":0.8},null,0,"Almacén sin cubrir y sin costra",null,0,1,null,"A","Inyección superficial",null,0.7,{"$f":"1-AA23","v":0.30000000000000004}]
[null,null,null,null,null,null,null,null,null,"B","Emparrillado parcial y lavado a chorro",null,null,null,0.65,0.35,null,"A","Costra natural / Materiales flotantes (paja)",null,0.4,0.6,null,"B","Inyección profunda (5-10 cm)",null,0.8,0.19999999999999996]
[null,null,null,null,null,null,null,null,null,"C","Emparrillado parcial y acidificación",null,null,null,0.6,0.4,null,"B","Cubiertas rígidas/flexibles",null,0.8,0.19999999999999996,null,"C","Inyección profunda (>15 com)",null,0.9,9.9999999999999978E-2]
[null,null,null,null,null,null,null,null,null,"D","Emparrillado parcial y refrigeración",null,null,null,0.6,0.4,null,"C","Piezas flotantes",null,0.6,0.4,null,"D","Tubos colgantes",null,0.32500000000000001,0.67500000000000004]
[null,null,null,null,null,null,null,null,null,"E","Emparrillado parcial y paredes inclinadas",null,null,null,0.65,0.35,null,"D","Bolsa de estiércol",null,1,0,null,"E","Zapatas colgantes",null,0.45,0.55000000000000004]
[null,null,null,null,null,null,null,null,null,"F","Emparrillado parcial y canales de agua y purín",null,null,null,0.4,0.6,null,"E","Acidificación del purín",null,0.5,0.5,null,"F","Dilución purines y riego baja presión",null,0.3,0.7]
[null,null,null,null,null,null,null,null,null,"G","Emparrillado parcial y cinta en V",null,null,null,0.7,0.30000000000000004,null,"F","Lámina de plástico flexible",null,0.6,0.4,null,"G","Acidificación purín (pH 6) y riego",null,0.5,0.5]
[null,null,null,null,null,null,null,null,null,null,null,null,null,null,null,null,null,"G","Fosa con paredes inclinadas",null,0.45,0.55000000000000004]
[null,null,null,null,null,null,null,null,null,"FASE 1B. EVACUACIÓN DE PURINES",null,null,null,null,"Coef. Reducción","F.R.",null,"H","Refrigeración de la superficie del purín",null,0.45,0.55000000000000004]
[null,null,null,null,null,null,null,null,null,0,"Retirada poco frecuente: menos de 2 veces por semana",null,null,null,0,{"$f":"1-O32","v":1},null,"I","Bolas flotantes",null,0.25,0.75]
[null,null,null,null,null,null,null,null,null,"A","Retirada al menos 2 veces a la semana, con sistema de vacío",null,null,null,0.25,{"$f":"1-O33","v":0.75},null,"J","Sistemas depuración de aire",null,0.8,0.19999999999999996]
[null,null,null,null,null,null,null,null,null,"B","Retirada al menos 2 veces a la semana, con lavado a chorro",null,null,null,0.4,0.6]
[null,null,null,null,null,null,null,null,null,"C","Canales de agua y purín ",null,null,null,0.5,0.5]
[null,null,null,null,null,null,null,null,null,"D","Colector de estiércol",null,null,null,0.65,0.35]

{"sheet":"F.Dist.","index":9,"n_rows":19,"n_cols":36,"rows_kept":19,"cut":false,"hidden":true,"merged":[[0,0,2,0],[0,1,2,1],[0,2,2,2],[0,3,1,3],[0,4,0,6],[1,4,2,4],[1,5,2,5],[1,6,2,6],[0,9,1,9],[1,15,2,15],[0,7,0,8],[1,7,2,7],[1,8,2,8],[0,11,0,14],[0,24,0,28],[1,23,2,23],[0,29,0,30],[0,16,0,23],[0,31,0,32],[1,28,2,28]]}
["SPECIE","CAT_AA","CAT_EMEP","x_TAN-T","DISTRIBUTION_Excrete",null,null,"DISTRIBUTION_BUILD",null,"N_Straw","Separ. S-L","DISTRIBUTION_exBUILD_solid",null,null,null,null,"DISTRIBUTION_exBUILD_slurry",null,null,null,null,null,null,null,"DISTRIBUTION_YARD_solid+slurry",null,null,null,null,"DISTRIBUTION_STORE_solid",null,"DISTRIBUTION_STORE_slurry"]
[null,null,null,null,"x_GRAZ","x_YARD","x_BUILD","X_BUILD_solid","X_BUILD_slurry",null,"SÍ","x_exBUILD_solid-to-STORE_solid","x_exBUILD_solid-to-STORE_slurry","x_exBUILD_solid-to-FIELD_solid","x_exBUILD_solid-to-OTHERS","CHECK","x_exBUILD_slurry-to-STORE","x_exBUILD_slurry-to-STORE_solid","x_exBUILD_slurry-to-STORE_slurry","x_exBUILD_slurry-to-FIELD","x_exBUILD_slurry-to-FIELD_solid","x_exBUILD_slurry-to-FIELD_slurry","x_exBUILD_slurry-to-OTHERS","CHECK","x_YARD-to-STORE_solid","x_YARD-to-STORE_slurry","x_YARD-to-FIELD_solid","x_YARD-to-OTHERS","CHECK","x_STORE_solid-to-FIELD_solid","x_STORE_solid-to-OTHERS","x_STORE_slurry-to-FIELD_slurry","x_STORE_slurry-to-OTHERS"]
[null,null,null,"kg N-TAN/AA",null,null,null,null,null,"kg N / AA","NO"]
["CERDO","Lechones destetados ","< 8 kg",0.73623188405797102,0,0,{"$f":"1-E4-F4","v":1},0,{"$f":"1-H4","v":1},0,{"$f":"E.Datos!N25","v":"NO"},0,0,0,0,{"$f":"SUM(L4:O4)","v":0},{"$f":"IF(E.Datos!P25=\"A almacenamiento\",1,0)","v":1},{"$f":"IF(K4=\"Sí\",0.1*Q4,0)","v":0},{"$f":"IF(K4=\"SÍ\",0.9*Q4,Q4)","v":1},{"$f":"IF(E.Datos!P25=\"Al campo o terreno agrícola\",1,0)","v":0},{"$f":"IF(K4=\"Sí\",0.1*T4,0)","v":0},{"$f":"IF(K4=\"SÍ\",0.9*T4,T4)","v":0},{"$f":"IF(E.Datos!P25=\"A otros usos no agrarios\",1,0)","v":0},{"$f":"1-SUM(R4:S4)-SUM(U4:V4)-W4","v":0},0,0,0,0,{"$f":"SUM(X4:AB4)","v":0},{"$f":"IF(E.Datos!T25=\"Al campo o terreno agrícola\",1,0)","v":0},{"$f":"IF(E.Datos!T25=\"A otros usos no agrarios\",1,0)","v":1},{"$f":"IF(E.Datos!U25=\"Al campo o terreno agrícola\",1,0)","v":0},{"$f":"IF(E.Datos!U25=\"A otros usos no agrarios\",1,0)","v":1}]
["CERDO","Cerdo 20-49 kg","> 8 kg",0.72077185017026102,0,0,{"$f":"1-E5-F5","v":1},0,{"$f":"1-H5","v":1},0,{"$f":"E.Datos!N27","v":"NO"},0,0,0,0,{"$f":"SUM(L5:O5)","v":0},{"$f":"IF(E.Datos!P27=\"A almacenamiento\",1,0)","v":1},{"$f":"IF(K5=\"Sí\",0.1*Q5,0)","v":0},{"$f":"IF(K5=\"SÍ\",0.9*Q5,Q5)","v":1},{"$f":"IF(E.Datos!P27=\"Al campo o terreno agrícola\",1,0)","v":0},{"$f":"IF(K5=\"Sí\",0.1*T5,0)","v":0},{"$f":"IF(K5=\"SÍ\",0.9*T5,T5)","v":0},{"$f":"IF(E.Datos!P27=\"A otros usos no agrarios\",1,0)","v":0},{"$f":"1-SUM(R5:S5)-SUM(U5:V5)-W5","v":0},0,0,0,0,{"$f":"SUM(X5:AB5)","v":0},{"$f":"IF(E.Datos!T27=\"Al campo o terreno agrícola\",1,0)","v":0},{"$f":"IF(E.Datos!T27=\"A otros usos no agrarios\",1,0)","v":1},{"$f":"IF(E.Datos!U27=\"Al campo o terreno agrícola\",1,0)","v":0},{"$f":"IF(E.Datos!U27=\"A otros usos no agrarios\",1,0)","v":1}]
["CERDO","Cerdo 50-79 kg","> 8 kg",0.72108208955223885,0,0,{"$f":"1-E6-F6","v":1},0,1,0,{"$f":"E.Datos!N29","v":"NO"},0,0,0,0,0,{"$f":"IF(E.Datos!P29=\"A almacenamiento\",1,0)","v":1},0,{"$f":"IF(K6=\"SÍ\",0.9*Q6,Q6)","v":1},{"$f":"IF(E.Datos!P29=\"Al campo o terreno agrícola\",1,0)","v":0},0,{"$f":"IF(K6=\"SÍ\",0.9*T6,T6)","v":0},{"$f":"IF(E.Datos!P29=\"A otros usos no agrarios\",1,0)","v":0},0,0,0,0,0,0,{"$f":"IF(E.Datos!T29=\"Al campo o terreno agrícola\",1,0)","v":0},{"$f":"IF(E.Datos!T29=\"A otros usos no agrarios\",1,0)","v":1},{"$f":"IF(E.Datos!U29=\"Al campo o terreno agrícola\",1,0)","v":0},{"$f":"IF(E.Datos!U29=\"A otros usos no agrarios\",1,0)","v":1}]
["CERDO","Cerdo 80-109 kg","> 8 kg",0.72003424657534254,0,0,1,0,1,0,{"$f":"E.Datos!N31","v":"NO"},0,0,0,0,0,{"$f":"IF(E.Datos!P31=\"A almacenamiento\",1,0)","v":1},0,1,{"$f":"IF(E.Datos!P31=\"Al campo o terreno agrícola\",1,0)","v":0},0,0,{"$f":"IF(E.Datos!P31=\"A otros usos no agrarios\",1,0)","v":0},0,0,0,0,0,0,{"$f":"IF(E.Datos!T31=\"Al campo o terreno agrícola\",1,0)","v":0},{"$f":"IF(E.Datos!T31=\"A otros usos no agrarios\",1,0)","v":1},{"$f":"IF(E.Datos!U31=\"Al campo o terreno agrícola\",1,0)","v":0},{"$f":"IF(E.Datos!U31=\"A otros usos no agrarios\",1,0)","v":1}]
["CERDO","Cerdo > 110 kg","> 8 kg",0.70232172470978449,0,0,1,0,1,0,{"$f":"E.Datos!N33","v":"NO"},0,0,0,0,0,{"$f":"IF(E.Datos!P33=\"A almacenamiento\",1,0)","v":1},0,1,{"$f":"IF(E.Datos!P33=\"Al campo o terreno agrícola\",1,0)","v":0},0,0,{"$f":"IF(E.Datos!P33=\"A otros usos no agrarios\",1,0)","v":0},{"$f":"1-SUM(R8:S8)-SUM(U8:V8)-W8","v":0},0,0,0,0,0,{"$f":"IF(E.Datos!T33=\"Al campo o terreno agrícola\",1,0)","v":0},{"$f":"IF(E.Datos!T33=\"A otros usos no agrarios\",1,0)","v":1},{"$f":"IF(E.Datos!U33=\"Al campo o terreno agrícola\",1,0)","v":0},{"$f":"IF(E.Datos!U33=\"A otros usos no agrarios\",1,0)","v":1}]
["CERDO","Verracos jóvenes","< 8 kg",0.76633785450061653,0,0,1,0,1,0,{"$f":"E.Datos!N35","v":"NO"},0,0,0,0,0,{"$f":"IF(E.Datos!P35=\"A almacenamiento\",1,0)","v":1},0,1,{"$f":"IF(E.Datos!P35=\"Al campo o terreno agrícola\",1,0)","v":0},0,0,{"$f":"IF(E.Datos!P35=\"A otros usos no agrarios\",1,0)","v":0},0,0,0,0,0,0,{"$f":"IF(E.Datos!T35=\"Al campo o terreno agrícola\",1,0)","v":0},{"$f":"IF(E.Datos!T35=\"A otros usos no agrarios\",1,0)","v":1},{"$f":"IF(E.Datos!U35=\"Al campo o terreno agrícola\",1,0)","v":0},{"$f":"IF(E.Datos!U35=\"A otros usos no agrarios\",1,0)","v":1}]
["CERDO","Verracos adultos","> 8 kg",0.74879999999999991,0,0,1,0,1,0,{"$f":"E.Datos!N37","v":"NO"},0,0,0,0,0,{"$f":"IF(E.Datos!P37=\"A almacenamiento\",1,0)","v":1},0,1,{"$f":"IF(E.Datos!P37=\"Al campo o terreno agrícola\",1,0)","v":0},0,0,{"$f":"IF(E.Datos!P37=\"A otros usos no agrarios\",1,0)","v":0},0,0,0,0,0,0,{"$f":"IF(E.Datos!T37=\"Al campo o terreno agrícola\",1,0)","v":0},{"$f":"IF(E.Datos!T37=\"A otros usos no agrarios\",1,0)","v":1},{"$f":"IF(E.Datos!U37=\"Al campo o terreno agrícola\",1,0)","v":0},{"$f":"IF(E.Datos!U37=\"A otros usos no agrarios\",1,0)","v":1}]
["CERDO","Reproductora no cubierta","< 8 kg",0.67803030303030298,0,0,1,0,1,0,{"$f":"E.Datos!N39","v":"NO"},0,0,0,0,0,{"$f":"IF(E.Datos!P39=\"A almacenamiento\",1,0)","v":1},0,1,{"$f":"IF(E.Datos!P39=\"Al campo o terreno agrícola\",1,0)","v":0},0,0,{"$f":"IF(E.Datos!P39=\"A otros usos no agrarios\",1,0)","v":0},0,0,0,0,0,0,{"$f":"IF(E.Datos!T39=\"Al campo o terreno agrícola\",1,0)","v":0},{"$f":"IF(E.Datos!T39=\"A otros usos no agrarios\",1,0)","v":1},{"$f":"IF(E.Datos!U39=\"Al campo o terreno agrícola\",1,0)","v":0},{"$f":"IF(E.Datos!U39=\"A otros usos no agrarios\",1,0)","v":1}]
["CERDO","Reproductora en 1ª gestación","> 8 kg",0.71571428571428564,0,0,1,0,1,0,{"$f":"E.Datos!N41","v":"NO"},0,0,0,0,0,{"$f":"IF(E.Datos!P41=\"A almacenamiento\",1,0)","v":1},0,1,{"$f":"IF(E.Datos!P41=\"Al campo o terreno agrícola\",1,0)","v":0},0,0,{"$f":"IF(E.Datos!P41=\"A otros usos no agrarios\",1,0)","v":0},0,0,0,0,0,0,{"$f":"IF(E.Datos!T41=\"Al campo o terreno agrícola\",1,0)","v":0},{"$f":"IF(E.Datos!T41=\"A otros usos no agrarios\",1,0)","v":1},{"$f":"IF(E.Datos!U41=\"Al campo o terreno agrícola\",1,0)","v":0},{"$f":"IF(E.Datos!U41=\"A otros usos no agrarios\",1,0)","v":1}]
["CERDO","Reproductora en gestación","> 8 kg",0.73439490445859867,0,0,1,0,1,0,{"$f":"E.Datos!N43","v":"NO"},0,0,0,0,0,{"$f":"IF(E.Datos!P43=\"A almacenamiento\",1,0)","v":1},0,1,{"$f":"IF(E.Datos!P43=\"Al campo o terreno agrícola\",1,0)","v":0},0,0,{"$f":"IF(E.Datos!P43=\"A otros usos no agrarios\",1,0)","v":0},0,0,0,0,0,0,{"$f":"IF(E.Datos!T43=\"Al campo o terreno agrícola\",1,0)","v":0},{"$f":"IF(E.Datos!T43=\"A otros usos no agrarios\",1,0)","v":1},{"$f":"IF(E.Datos!U43=\"Al campo o terreno agrícola\",1,0)","v":0},{"$f":"IF(E.Datos!U43=\"A otros usos no agrarios\",1,0)","v":1}]
["CERDO","Reproductoras criando por 1ª vez","> 8 kg",0.7235531628532974,0,0,1,0,1,0,{"$f":"E.Datos!N45","v":"NO"},0,0,0,0,0,{"$f":"IF(E.Datos!P45=\"A almacenamiento\",1,0)","v":1},0,1,{"$f":"IF(E.Datos!P45=\"Al campo o terreno agrícola\",1,0)","v":0},0,0,{"$f":"IF(E.Datos!P45=\"A otros usos no agrarios\",1,0)","v":0},0,0,0,0,0,0,{"$f":"IF(E.Datos!T45=\"Al campo o terreno agrícola\",1,0)","v":0},{"$f":"IF(E.Datos!T45=\"A otros usos no agrarios\",1,0)","v":1},{"$f":"IF(E.Datos!U45=\"Al campo o terreno agrícola\",1,0)","v":0},{"$f":"IF(E.Datos!U45=\"A otros usos no agrarios\",1,0)","v":1}]
["CERDO","Reproductoras criando","> 8 kg",0.73065401897154258,0,0,1,0,1,0,{"$f":"E.Datos!N47","v":"NO"},0,0,0,0,0,{"$f":"IF(E.Datos!P47=\"A almacenamiento\",1,0)","v":1},0,1,{"$f":"IF(E.Datos!P47=\"Al campo o terreno agrícola\",1,0)","v":0},0,0,{"$f":"IF(E.Datos!P47=\"A otros usos no agrarios\",1,0)","v":0},0,0,0,0,0,0,{"$f":"IF(E.Datos!T47=\"Al campo o terreno agrícola\",1,0)","v":0},{"$f":"IF(E.Datos!T47=\"A otros usos no agrarios\",1,0)","v":1},{"$f":"IF(E.Datos!U47=\"Al campo o terreno agrícola\",1,0)","v":0},{"$f":"IF(E.Datos!U47=\"A otros usos no agrarios\",1,0)","v":1}]
["CERDO","Reproductoras en reposo 1ª vez","> 8 kg",0.823489932885906,0,0,1,0,1,0,{"$f":"E.Datos!N49","v":"NO"},0,0,0,0,0,{"$f":"IF(E.Datos!P49=\"A almacenamiento\",1,0)","v":1},{"$f":"IF(K16=\"Sí\",0.1*Q16,0)","v":0},1,{"$f":"IF(E.Datos!P49=\"Al campo o terreno agrícola\",1,0)","v":0},0,0,{"$f":"IF(E.Datos!P49=\"A otros usos no agrarios\",1,0)","v":0},0,0,0,0,0,0,{"$f":"IF(E.Datos!T49=\"Al campo o terreno agrícola\",1,0)","v":0},{"$f":"IF(E.Datos!T49=\"A otros usos no agrarios\",1,0)","v":1},{"$f":"IF(E.Datos!U49=\"Al campo o terreno agrícola\",1,0)","v":0},{"$f":"IF(E.Datos!U49=\"A otros usos no agrarios\",1,0)","v":1}]
["CERDO","Reproductoras en reposo","> 8 kg",0.76486305945223776,0,0,1,0,1,0,{"$f":"E.Datos!N51","v":"NO"},0,0,0,0,0,{"$f":"IF(E.Datos!P51=\"A almacenamiento\",1,0)","v":1},0,1,{"$f":"IF(E.Datos!P51=\"Al campo o terreno agrícola\",1,0)","v":0},0,0,{"$f":"IF(E.Datos!P51=\"A otros usos no agrarios\",1,0)","v":0},0,0,0,0,0,0,{"$f":"IF(E.Datos!T51=\"Al campo o terreno agrícola\",1,0)","v":0},{"$f":"IF(E.Datos!T51=\"A otros usos no agrarios\",1,0)","v":1},{"$f":"IF(E.Datos!U51=\"Al campo o terreno agrícola\",1,0)","v":0},{"$f":"IF(E.Datos!U51=\"A otros usos no agrarios\",1,0)","v":1}]
[]
[null,null,null,null,null,null,null,null,null,null,null,null,null,null,null,null,null,null,null,null,null,null,null,null,null,"RESULTS FOR THE WORST SCENARIO",null,4136.2938727575711,null,3406.3854311813047,0,12.402366000000001,0.12582110434782609,3418.9136182856523,null,4027.4363817143471]